BEGIN:VCALENDAR
VERSION:2.0
PRODID:-//ChamberMaster//Event Calendar 2.0//EN
METHOD:PUBLISH
X-PUBLISHED-TTL:P3D
REFRESH-INTERVAL:P3D
CALSCALE:GREGORIAN
BEGIN:VEVENT
DTSTART:20170421T160000Z
DTEND:20170421T180000Z
X-MICROSOFT-CDO-ALLDAYEVENT:FALSE
SUMMARY:CAPS Children's Rally
DESCRIPTION:CAPS Children's Rally! Public gathering for at the Civic Plaza at Noon in Downtown Elkhart. Join us as we call attention to the different ways the community can help make Elkhart County a safe place for kids to grow up.
X-ALT-DESC;FMTTYPE=text/html:CAPS Children&rsquo\;s Rally! Public gathering for at the Civic Plaza at Noon in Downtown Elkhart. Join us as we call attention to the different ways the community can help make Elkhart County a safe place for kids to grow up.
LOCATION:Civic Plaza in Downtown Elkhart
UID:e.689.16745
SEQUENCE:3
DTSTAMP:20260425T104255Z
URL:https://business.goshen.org/events/details/caps-children-s-rally-16745
END:VEVENT

END:VCALENDAR
