BEGIN:VCALENDAR
VERSION:2.0
PRODID:-//ChamberMaster//Event Calendar 2.0//EN
METHOD:PUBLISH
X-PUBLISHED-TTL:P3D
REFRESH-INTERVAL:P3D
CALSCALE:GREGORIAN
BEGIN:VEVENT
DTSTART:20161027T223000Z
DTEND:20161028T000000Z
X-MICROSOFT-CDO-ALLDAYEVENT:FALSE
SUMMARY:Candidate Forum: County Council At-Large\, Goshen Community School Board - District 2 and At Large
DESCRIPTION:Candidates Forum for:\n\n\n\nCounty Council At-Large \n\n\n\nJohn K  Letherman\n\nThomas W. Stump\n\nTina Wenger\n\nMandy Leazenby\n\n \n\nGoshen Community School Board - District 2\n\n\n\nFelipe N.Merino\n\nAmanda Qualls\n\nMichael L. Truex\n\n\n\nAt-Large\n\n\n\nRobert A. Duell\n\nBradd A. Weddell
X-ALT-DESC;FMTTYPE=text/html:<strong>Candidates Forum for:<br />\n<br />\nCounty Council At-Large</strong>&nbsp\;<br />\n<br />\nJohn K &nbsp\;Letherman<br />\nThomas W. Stump<br />\nTina Wenger<br />\nMandy Leazenby<br />\n&#8203\;<br />\n<strong>Goshen Community School Board - District&nbsp\;2</strong><br />\n<br />\nFelipe N.Merino<br />\nAmanda Qualls<br />\nMichael L. Truex<br />\n<br />\n<strong>At-Large</strong><br />\n<br />\nRobert A. Duell<br />\nBradd A. Weddell<br />\n<br />\n<br />\n<br />\n<br />\n<br />\n<br />\n<br />\n<br />\n<br />\n<br />\n&nbsp\;
LOCATION:Greencroft Retirement Communities - Senior Center Auditorium 1721 Greencroft Boulevard Goshen\, IN
UID:e.689.16260
SEQUENCE:3
DTSTAMP:20260425T202914Z
URL:https://business.goshen.org/events/details/candidate-forum-county-council-at-large-goshen-community-school-board-district-2-and-at-large-16260
END:VEVENT

END:VCALENDAR
