BEGIN:VCALENDAR
VERSION:2.0
PRODID:-//ChamberMaster//Event Calendar 2.0//EN
METHOD:PUBLISH
X-PUBLISHED-TTL:P3D
REFRESH-INTERVAL:P3D
CALSCALE:GREGORIAN
BEGIN:VEVENT
DTSTART:20200319T160000Z
DTEND:20200319T171500Z
X-MICROSOFT-CDO-ALLDAYEVENT:FALSE
SUMMARY:Canceled-HR Luncheon-LouAnn Dobbin from New Avenues Will Be Our Featured Speaker
DESCRIPTION:Emotional Intelligence   Emotional Intelligence is about recognizing and managing your emotions and those of others. You will learn four fundamental aspects of EI: \n\n	Self-Awareness \n	Self-Management\n	Social Awareness \n	Relationship Management.\n	 \n\n\nLouAnn Dobbins\, MS   Professional Biography\n\n\n\nLouAnn Dobbins was Coordinator of EAP (Employee Assistance Program) Business Development for New Avenues\, Inc.\, a position she held from 2008 through 2019. In this role\, LouAnn worked with human resource professionals and business managers in setting-up and servicing their organizations with customized employee assistance programs. LouAnn conducted EAP employee orientations and supervisor trainings as well as training covering a variety of behavioral issues in the workplace. Additionally\, she represented New Avenues at local and regional marketing expos\, participates in benefit and health fairs and other client events. LouAnn now works with New Avenues on a contractual basis to present on mental health topics.\n\nLouAnn earned a Bachelor of Science degree from Indiana University Bloomington and a Master of Science degree from Indiana University South Bend. She has over 30 years' experience in the field of behavioral health.\n\nLouAnn was a member of the Michiana Society of Human Resource\n\n\n\nFor over 40 years\, New Avenues has been impacting workplaces - locally\, regionally\, and nationally - towards optimal employee well-being and peak organizational effectiveness.  With a history of dedicated service and an accomplished record in the clinical marketplace\, New Avenues delivers a culture of empathy\, trust\, and unparalleled service that drives improved employee job satisfaction\, productivity and well-being.  New Avenues partners with over 240 client organizations   educational institutions\, healthcare systems\, government entities\, manufacturing\, and retail organizations\, non-profits and a wide range of corporate businesses   to provide employee assistance\, behavioral health programs and organizational development services.  New Avenues is dedicated to developing innovations that empower organizations\, and the people within them\, with dynamic\, integrated solutions for optimizing healthier organizational productivity and personal well-being.
X-ALT-DESC;FMTTYPE=text/html:<div style="text-align: center\;"><span style="color:#212121\;"><span style="font-size:11.0pt\;">Emotional Intelligence &ndash\; Emotional Intelligence is about recognizing and managing your emotions and those of others. You will learn four fundamental aspects of EI: </span></span>\n<ul>\n	<li style="color:#212121\;margin-left:0in\;"><span style="font-size:11.0pt\;">Self-Awareness </span></li>\n	<li style="color:#212121\;margin-left:0in\;"><span style="font-size:11.0pt\;">Self-Management</span></li>\n	<li style="color:#212121\;margin-left:0in\;"><span style="font-size:11.0pt\;">Social Awareness </span></li>\n	<li style="color:#212121\;margin-left:0in\;"><span style="font-size:11.0pt\;">Relationship Management.</span></li>\n	<li style="color:#212121\;margin-left:0in\;">&nbsp\;</li>\n</ul>\n\n<div style="color:#212121\;margin-left:0in\;">LouAnn Dobbins\, MS &ndash\; Professional Biography<br />\n<br />\nLouAnn Dobbins was Coordinator of EAP (Employee Assistance Program) Business Development for New Avenues\, Inc.\, a position she held from 2008 through 2019. In this role\, LouAnn worked with human resource professionals and business managers in setting-up and servicing their organizations with customized employee assistance programs. LouAnn conducted EAP employee orientations and supervisor trainings as well as training covering a variety of behavioral issues in the workplace. Additionally\, she represented New Avenues at local and regional marketing expos\, participates in benefit and health fairs and other client events. LouAnn now works with New Avenues on a contractual basis to present on mental health topics.<br />\nLouAnn earned a Bachelor of Science degree from Indiana University Bloomington and a Master of Science degree from Indiana University South Bend. She has over 30 years&rsquo\; experience in the field of behavioral health.<br />\nLouAnn was a member of the Michiana Society of Human Resource<br />\n<br />\n<span style="color:#222A35\;"><span style="font-family:arial\,sans-serif\;">For over 40 years\, New Avenues has been impacting workplaces - locally\, regionally\, and nationally - towards optimal employee well-being and peak organizational effectiveness.&nbsp\; With a history of dedicated service and an accomplished record in the clinical marketplace\, New Avenues delivers a culture of empathy\, trust\, and unparalleled service that drives improved employee job satisfaction\, productivity and well-being.&nbsp\; New Avenues partners with over 240 client organizations &ndash\; educational institutions\, healthcare systems\, government entities\, manufacturing\, and retail organizations\, non-profits and a wide range of corporate businesses &ndash\; to provide employee assistance\, behavioral health programs and organizational development services.&nbsp\; </span></span><span style="font-family:arial\,sans-serif\;">New Avenues is dedicated to developing innovations that empower organizations\, and the people within them\, with dynamic\, integrated solutions for optimizing healthier organizational productivity and personal well-being.</span><br />\n&nbsp\;</div>\n</div>\n
LOCATION:Goshen Chamber of Commerce 232 S. Main Street Goshen\, IN 46526
UID:e.689.20926
SEQUENCE:3
DTSTAMP:20260422T224532Z
URL:https://business.goshen.org/events/details/canceled-hr-luncheon-louann-dobbin-from-new-avenues-will-be-our-featured-speaker-20926
END:VEVENT

END:VCALENDAR
