BEGIN:VCALENDAR
VERSION:2.0
PRODID:-//ChamberMaster//Event Calendar 2.0//EN
METHOD:PUBLISH
X-PUBLISHED-TTL:P3D
REFRESH-INTERVAL:P3D
CALSCALE:GREGORIAN
BEGIN:VEVENT
DTSTART:20160714T150000Z
DTEND:20160714T180000Z
X-MICROSOFT-CDO-ALLDAYEVENT:FALSE
SUMMARY:Camp Storytime at Mummphy's
DESCRIPTION:Ages 4-13. Join Mummphy's Book Nook for 2 thrilling days of adventure! What's better than camping outside? Well\, camping inside a bookstore\, of course! Bring a sleeping bag or pillow. Healthy afternoon snack provided. Come prepared for adventure and creativity. Visit Mummphysbooknook.com or call Jon at 574-875-0770.
X-ALT-DESC;FMTTYPE=text/html:Ages 4-13. Join Mummphy&#39\;s Book Nook for 2 thrilling days of adventure! What&#39\;s better than camping outside? Well\, camping inside a bookstore\, of course! Bring a sleeping bag or pillow. Healthy afternoon snack provided. Come prepared for adventure and creativity. Visit Mummphysbooknook.com or call Jon at 574-875-0770.<br />\n&nbsp\;
LOCATION:Concord Mall 3701 S. Main Street Elkhart\, IN 46517 574-875-6502
UID:e.689.15997
SEQUENCE:3
DTSTAMP:20260426T022656Z
URL:https://business.goshen.org/events/details/camp-storytime-at-mummphy-s-07-14-2016-15997
END:VEVENT

END:VCALENDAR
