BEGIN:VCALENDAR
VERSION:2.0
PRODID:-//ChamberMaster//Event Calendar 2.0//EN
METHOD:PUBLISH
X-PUBLISHED-TTL:P3D
REFRESH-INTERVAL:P3D
CALSCALE:GREGORIAN
BEGIN:VEVENT
DTSTART:20180918T210000Z
DTEND:20180918T230000Z
X-MICROSOFT-CDO-ALLDAYEVENT:FALSE
SUMMARY:Business Networking Hosted by Blue Star\, Inc.
DESCRIPTION:Building a network and connecting with your peers are things every business must do. An opportunity to begin or continue these relationships will be Tues. Sept. 18th from 5-7 p.m. Blue Star hosts this lively\, casual event with food\, refreshments and prizes at their location in downtown Goshen\, 220 S. Main St.
X-ALT-DESC;FMTTYPE=text/html:Building a network and connecting with your peers are things every business must do. An opportunity to begin or continue these relationships will be Tues. Sept. 18th from 5-7 p.m. Blue Star hosts this lively\, casual event with food\, refreshments and prizes at their location in downtown Goshen\, 220 S. Main St.
LOCATION:Blue Star\, Inc.\, 220 S. Main Street\, downtown Goshen
UID:e.689.18225
SEQUENCE:3
DTSTAMP:20260424T045251Z
URL:https://business.goshen.org/events/details/business-networking-hosted-by-blue-star-inc-18225
END:VEVENT

END:VCALENDAR
