BEGIN:VCALENDAR
VERSION:2.0
PRODID:-//ChamberMaster//Event Calendar 2.0//EN
METHOD:PUBLISH
X-PUBLISHED-TTL:P3D
REFRESH-INTERVAL:P3D
CALSCALE:GREGORIAN
BEGIN:VEVENT
DTSTART:20170408T150000Z
DTEND:20170415T230000Z
X-MICROSOFT-CDO-ALLDAYEVENT:FALSE
SUMMARY:Bunnyville Open for Easter Bunny Visits & Photos
DESCRIPTION:Beginning April 8-15\, 2017\, The Easter Bunny is "hopping" to see you! Stop by and say hello! Hours: Mon-Sat: 11a-3p & 4p-7p Sunday: 1p-5p. Bunny Hop Photos are available for purchase.
X-ALT-DESC;FMTTYPE=text/html:Beginning April 8-15\, 2017\, The Easter Bunny is &quot\;hopping&quot\; to see you! Stop by and say hello! Hours: Mon-Sat: 11a-3p &amp\; 4p-7p Sunday: 1p-5p. Bunny Hop Photos are available for purchase.
LOCATION:Concord Mall 3701 S. Main Street Elkhart\, IN 46517 574-875-6502
UID:e.689.16741
SEQUENCE:3
DTSTAMP:20260425T104147Z
URL:https://business.goshen.org/events/details/bunnyville-open-for-easter-bunny-visits-photos-16741
END:VEVENT

END:VCALENDAR
