BEGIN:VCALENDAR
VERSION:2.0
PRODID:-//ChamberMaster//Event Calendar 2.0//EN
METHOD:PUBLISH
X-PUBLISHED-TTL:P3D
REFRESH-INTERVAL:P3D
CALSCALE:GREGORIAN
BEGIN:VEVENT
DTSTART:20190615T170000Z
DTEND:20190623T210000Z
X-MICROSOFT-CDO-ALLDAYEVENT:FALSE
SUMMARY:Builders Association of Elkhart County
DESCRIPTION:The Builders Association of Elkhart County will be hosting their annual Parade of Homes from June 15-23\, 2019. Hours will be Saturdays and Sundays 1-8pm\, Monday-Friday 5-9pm. Nine beautiful homes in various locations will be showcased during the event. Also\, there will be 2 developments featured\, eight additional homes in the hard hat stage and two finished remodels to tour on June 22 & 23 only. Tickets may be purchased ahead of time at all Martins for $8. For more information go to www.baec.com or contact their office at 547-293-0997. Contact: Kim McKibbin\, BAEC Executive Officer
X-ALT-DESC;FMTTYPE=text/html:The Builders Association of Elkhart County will be hosting their annual Parade of Homes from June 15-23\, 2019. Hours will be Saturdays and Sundays 1-8pm\, Monday-Friday 5-9pm. Nine beautiful homes in various locations will be showcased during the event. Also\, there will be 2 developments featured\, eight additional homes in the hard hat stage and two finished remodels to tour on June 22 &amp\; 23 only. Tickets may be purchased ahead of time at all Martins for $8. For more information go to www.baec.com or contact their office at 547-293-0997. Contact: Kim McKibbin\, BAEC Executive Officer
LOCATION:Various Locations
UID:e.689.19249
SEQUENCE:3
DTSTAMP:20260423T125320Z
URL:https://business.goshen.org/events/details/builders-association-of-elkhart-county-19249
END:VEVENT

END:VCALENDAR
