BEGIN:VCALENDAR
VERSION:2.0
PRODID:-//ChamberMaster//Event Calendar 2.0//EN
METHOD:PUBLISH
X-PUBLISHED-TTL:P3D
REFRESH-INTERVAL:P3D
CALSCALE:GREGORIAN
BEGIN:VEVENT
DTSTART:20180203T150000Z
DTEND:20180203T170000Z
X-MICROSOFT-CDO-ALLDAYEVENT:FALSE
SUMMARY:Build-A-Barrel Workshop
DESCRIPTION:Learn about rain barrels\, how they help to slow down stormwater runoff from your home\, and then build your own! Tools\, barrels\, and fittings will be provided by the Greater Elkhart County Stormwater Partnership. You will leave the workshop with your very own working rain barrel!
X-ALT-DESC;FMTTYPE=text/html:Learn about rain barrels\, how they help to slow down stormwater runoff from your home\, and then build your own! Tools\, barrels\, and fittings will be provided by the Greater Elkhart County Stormwater Partnership. You will leave the workshop with your very own working rain barrel!
LOCATION:Elkhart County 4-H Fairgrounds Sheep/Swine Building located at 17746 County Road 34\, Goshen\, IN 46528
UID:e.689.17648
SEQUENCE:3
DTSTAMP:20260424T183635Z
URL:https://business.goshen.org/events/details/build-a-barrel-workshop-17648
END:VEVENT

END:VCALENDAR
