BEGIN:VCALENDAR
VERSION:2.0
PRODID:-//ChamberMaster//Event Calendar 2.0//EN
METHOD:PUBLISH
X-PUBLISHED-TTL:P3D
REFRESH-INTERVAL:P3D
CALSCALE:GREGORIAN
BEGIN:VEVENT
DTSTART:20210911T143000Z
DTEND:20210911T163000Z
X-MICROSOFT-CDO-ALLDAYEVENT:FALSE
SUMMARY:Brilliant Ink Rock Painting Workshop
DESCRIPTION:Join in the rock painting fun and create one of a kind creations that brighten any spot! Students will learn about color and pattern while using alcohol ink\, gel paint\, and creativity to complete their rock creations.\n\n\n\nRecommended age: 7 to 10+ years\n\n\n\nSign up for the workshop at www.theimaginationspot.com or in person at The Imagination Spot in downtown Goshen.
X-ALT-DESC;FMTTYPE=text/html:Join in the rock painting fun and create one of a kind creations that brighten any spot! Students will learn about color and pattern while using alcohol ink\, gel paint\, and creativity to complete their rock creations.<br />\n<br />\nRecommended age: 7 to 10+ years<br />\n<br />\nSign up for the workshop at www.theimaginationspot.com or in person at The Imagination Spot in downtown Goshen.
LOCATION:The Imagination Spot\, 111 E Washington St. Goshen IN 46528
UID:e.689.22656
SEQUENCE:3
DTSTAMP:20260421T132036Z
URL:https://business.goshen.org/events/details/brilliant-ink-rock-painting-workshop-22656
END:VEVENT

END:VCALENDAR
