BEGIN:VCALENDAR
VERSION:2.0
PRODID:-//ChamberMaster//Event Calendar 2.0//EN
METHOD:PUBLISH
X-PUBLISHED-TTL:P3D
REFRESH-INTERVAL:P3D
CALSCALE:GREGORIAN
BEGIN:VEVENT
DTSTART:20160614T123000Z
DTEND:20160614T143000Z
X-MICROSOFT-CDO-ALLDAYEVENT:FALSE
SUMMARY:Breakthrough Leadership - Managing Yourself and Leading Others
DESCRIPTION:Business Owners\, HR Professionals\, Supervisors\, and Managers learn to identify and apply the skills of other effective leaders! \n\n \n\nThink of the leaders you most admire. They seem to easily juggle competing demands\, confidently motivate their teams to achieve optimum results\, effectively navigate across the organization\, and never lose their composure.\n\n \n\nThese executives make the job look simple\, but it's not. Our Breakthrough Leadership program includes three components.\n\n \n\n1. Managing Yourself\n\n2. Leading Others \n\n3. Increasing Your Effectiveness.\n\n \n\nEach is designed to address a specific area of development for you and those you lead.\n\n \n\nGuest Speaker: Doug Lennick CEO and co-founder of think2perform. He is legendary for his innovative approaches to developing high performance in individuals and organizations and is an expert at developing practical applications of the art and science of human behavior\, financial and otherwise.\n\n\n\nRegister Now!\n\n  https://events.r20.constantcontact.com/register/eventReg?oeidk=a07echxvrv75e34dae5&oseq=&c=&ch=\n\n\n\nReach360: Your partner for Human Resource\, Bookkeeping and Payroll Service
X-ALT-DESC;FMTTYPE=text/html:<span style="color: rgb(255\, 0\, 0)\;"><strong><span style="font-size: medium\;">Business Owners\, HR Professionals\, Supervisors\, and&nbsp\;Managers learn to identify and apply the skills of other effective leaders!</span></strong>&nbsp\;</span><br />\n&nbsp\;<br />\nThink of the leaders you most admire. They seem to easily juggle competing demands\, confidently motivate their teams to achieve optimum results\, effectively navigate across the organization\, and never lose their composure.<br />\n&nbsp\;<br />\nThese executives make the job look simple\, but it&rsquo\;s not. Our Breakthrough Leadership program includes three components.<br />\n&nbsp\;<br />\n1. Managing Yourself<br />\n2.&nbsp\;Leading Others&nbsp\;<br />\n3. Increasing Your Effectiveness.<br />\n&nbsp\;<br />\nEach is designed to address a specific area of development for you and those you lead.<br />\n&nbsp\;<br />\nGuest Speaker: Doug Lennick&nbsp\;CEO and co-founder of think2perform. He is legendary for his innovative approaches to developing high performance in individuals and organizations and is an expert at developing practical applications of the art and science of human behavior\, financial and otherwise.<br />\n<br />\nRegister Now!<br />\n&nbsp\; <a href="https://events.r20.constantcontact.com/register/eventReg?oeidk=a07echxvrv75e34dae5&amp\;oseq=&amp\;c=&amp\;ch">https://events.r20.constantcontact.com/register/eventReg?oeidk=a07echxvrv75e34dae5&amp\;oseq=&amp\;c=&amp\;ch</a>=\n\n<div style="text-align: center\;"><br />\n<span style="color: rgb(255\, 0\, 0)\;">Reach360: Your partner for Human Resource\, Bookkeeping and Payroll&nbsp\;Service</span>&nbsp\;</div>\n
LOCATION:3454 Douglas Road South Bend\, IN 46635
UID:e.689.15965
SEQUENCE:3
DTSTAMP:20260426T035835Z
URL:https://business.goshen.org/events/details/breakthrough-leadership-managing-yourself-and-leading-others-06-14-2016-15965
END:VEVENT

END:VCALENDAR
