BEGIN:VCALENDAR
VERSION:2.0
PRODID:-//ChamberMaster//Event Calendar 2.0//EN
METHOD:PUBLISH
X-PUBLISHED-TTL:P3D
REFRESH-INTERVAL:P3D
CALSCALE:GREGORIAN
BEGIN:VEVENT
DTSTART:20170105T224500Z
DTEND:20170106T003000Z
X-MICROSOFT-CDO-ALLDAYEVENT:FALSE
SUMMARY:Brazilian Jiu Jitsu Classes- Youth & Adult classes available
DESCRIPTION:This introductory session will give participants a basic understanding of Brazilian Jiu Jitsu history\, theory and techniques. Classes will include a warmup\, stretching and technical instruction. Self-defense techniques and movement drills\, without striking\, also will be taught. Brazilian Jiu Jitsu is unique to most other self-defense systems as it focuses on use of leverage and proper technique\, taking the attacker to the ground and defusing the situation by use of joint locks and holds. Class meets at Barrick Brazilian Jiu Jitsu\, 427 W. Pike Street\, Ste. 2 (behind Bob Evans and Walgreens). Session cost is $25. Winter Session: January 5\, 12 and 19 Youth Class (ages 4 12): 5:45 6:30 pm Adult Class (ages 13+): 6:30 7:30 pm Pre-register now at the Park Office (574) 534-2901.
X-ALT-DESC;FMTTYPE=text/html:This introductory session will give participants a basic understanding of Brazilian Jiu Jitsu history\, theory and techniques. Classes will include a warmup\, stretching and technical instruction. Self-defense techniques and movement drills\, without striking\, also will be taught. Brazilian Jiu Jitsu is unique to most other self-defense systems as it focuses on use of leverage and proper technique\, taking the attacker to the ground and defusing the situation by use of joint locks and holds. Class meets at Barrick Brazilian Jiu Jitsu\, 427 W. Pike Street\, Ste. 2 (behind Bob Evans and Walgreens). Session cost is $25. Winter Session: January 5\, 12 and 19 Youth Class (ages 4&ndash\;12): 5:45&ndash\;6:30 pm Adult Class (ages 13+): 6:30&ndash\;7:30 pm Pre-register now at the Park Office (574) 534-2901.
LOCATION:
UID:e.689.16198
SEQUENCE:3
DTSTAMP:20260425T154727Z
URL:https://business.goshen.org/events/details/brazilian-jiu-jitsu-classes-youth-adult-classes-available-16198
END:VEVENT

END:VCALENDAR
