BEGIN:VCALENDAR
VERSION:2.0
PRODID:-//ChamberMaster//Event Calendar 2.0//EN
METHOD:PUBLISH
X-PUBLISHED-TTL:P3D
REFRESH-INTERVAL:P3D
CALSCALE:GREGORIAN
BEGIN:VEVENT
DTSTART:20170310T200000Z
DTEND:20170312T200000Z
X-MICROSOFT-CDO-ALLDAYEVENT:FALSE
SUMMARY:Bowl For Kids' Sake
DESCRIPTION:Strike up some fun with Big Brothers Big Sisters! Bowl For Kids' Sake is the perfect way for individuals like you to make an impact on our community. With Bowl For Kids' Sake\, teams of five raise money from among friends\, family\, and coworkers to support the Big Brothers Big Sisters mission of changing lives through one-to-one mentoring. As a "thank you" for their support\, Big Brothers Big Sisters then hosts a celebratory bowling party for teams. These bowling parties will take place on Friday March 10th\, Saturday March 11th\, and Sunday March 12th. Learn more at www.bbbselkhart.org/BFKS
X-ALT-DESC;FMTTYPE=text/html:Strike up some fun with Big Brothers Big Sisters! Bowl For Kids&rsquo\; Sake is the perfect way for individuals like you to make an impact on our community. With Bowl For Kids&rsquo\; Sake\, teams of five raise money from among friends\, family\, and coworkers to support the Big Brothers Big Sisters mission of changing lives through one-to-one mentoring. As a &ldquo\;thank you&rdquo\; for their support\, Big Brothers Big Sisters then hosts a celebratory bowling party for teams. These bowling parties will take place on Friday March 10th\, Saturday March 11th\, and Sunday March 12th. Learn more at www.bbbselkhart.org/BFKS
LOCATION:Country Club Lanes\, Elkhart Signature Lanes\, Elkhart
UID:e.689.16699
SEQUENCE:3
DTSTAMP:20260425T140203Z
URL:https://business.goshen.org/events/details/bowl-for-kids-sake-16699
END:VEVENT

END:VCALENDAR
