BEGIN:VCALENDAR
VERSION:2.0
PRODID:-//ChamberMaster//Event Calendar 2.0//EN
METHOD:PUBLISH
X-PUBLISHED-TTL:P3D
REFRESH-INTERVAL:P3D
CALSCALE:GREGORIAN
BEGIN:VEVENT
DTSTART:20171124T000000Z
DTEND:20171124T030000Z
X-MICROSOFT-CDO-ALLDAYEVENT:FALSE
SUMMARY:BLAMMO Concert
DESCRIPTION:BLAMMO will be in concert beginning at 7p.  Bring the family and enjoy shopping while dancing to your favorite songs.
X-ALT-DESC;FMTTYPE=text/html:BLAMMO will be in concert beginning at 7p.&nbsp\; Bring the family and enjoy shopping while dancing to your favorite songs.
LOCATION:Concord Mall 3701 S. Main Street Elkhart\, IN 46517 574-875-6502
UID:e.689.17445
SEQUENCE:3
DTSTAMP:20260424T230933Z
URL:https://business.goshen.org/events/details/blammo-concert-17445
END:VEVENT

END:VCALENDAR
