BEGIN:VCALENDAR
VERSION:2.0
PRODID:-//ChamberMaster//Event Calendar 2.0//EN
METHOD:PUBLISH
X-PUBLISHED-TTL:P3D
REFRESH-INTERVAL:P3D
CALSCALE:GREGORIAN
BEGIN:VEVENT
DTSTART:20190816T220000Z
DTEND:20190817T020000Z
X-MICROSOFT-CDO-ALLDAYEVENT:FALSE
SUMMARY:Bike Night For A Cause
DESCRIPTION:Bike Night For A Cause Live music! Local vendors! Family Friendly Event held rain or shine with plenty of indoor space $5 donation for A Rosie Place For Children Hosted by Axemen MC Indiana Chapters I & III
X-ALT-DESC;FMTTYPE=text/html:Bike Night For A Cause Live music! Local vendors! Family Friendly Event held rain or shine with plenty of indoor space $5 donation for A Rosie Place For Children Hosted by Axemen MC Indiana Chapters I &amp\; III
LOCATION:Southgate Crossing 22751 Co. Rd. 26 Elkhart\, IN
UID:e.689.19618
SEQUENCE:3
DTSTAMP:20260423T094206Z
URL:https://business.goshen.org/events/details/bike-night-for-a-cause-08-16-2019-19618
END:VEVENT

END:VCALENDAR
