BEGIN:VCALENDAR
VERSION:2.0
PRODID:-//ChamberMaster//Event Calendar 2.0//EN
METHOD:PUBLISH
X-PUBLISHED-TTL:P3D
REFRESH-INTERVAL:P3D
CALSCALE:GREGORIAN
BEGIN:VEVENT
DTSTART:20180413T190000Z
DTEND:20180414T200000Z
X-MICROSOFT-CDO-ALLDAYEVENT:FALSE
SUMMARY:Big Brothers Big Sisters Bowl For Kids' Sake
DESCRIPTION:Why should you Bowl for Kids' Sake? Big impact. When you Bowl For Kids' Sake\, you are creating brighter futures for youth right here in Elkhart County. One hundred percent of the funds your team raises are used to support the Big Brothers Big Sisters mission of one-to-one mentoring. National research has shown that the youth in our program are more confident in their schoolwork performance\, able to get along better with their families\, and better able to avoid risky behaviors like using illegal drugs or skipping school. Team building. Looking for a fun way to bring your group together? Bowl for Kids' Sake teams have a common mission to raise money to support Big Brothers Big Sisters of Elkhart County. You can be creative! Bowlers can compete against each other or against other teams to raise the most money or get the most pledges\, they can work together to come up with fundraising ideas\, and more. Great time. Do you like pizza\, bowling\, and prizes? You can face off against friends\, earn office bragging rights\, or become a family legend. All while having fun & raising money for our youth.
X-ALT-DESC;FMTTYPE=text/html:Why should you Bowl for Kids&rsquo\; Sake? Big impact. When you Bowl For Kids&rsquo\; Sake\, you are creating brighter futures for youth right here in Elkhart County. One hundred percent of the funds your team raises are used to support the Big Brothers Big Sisters mission of one-to-one mentoring. National research has shown that the youth in our program are more confident in their schoolwork performance\, able to get along better with their families\, and better able to avoid risky behaviors like using illegal drugs or skipping school. Team building. Looking for a fun way to bring your group together? Bowl for Kids&rsquo\; Sake teams have a common mission to raise money to support Big Brothers Big Sisters of Elkhart County. You can be creative! Bowlers can compete against each other or against other teams to raise the most money or get the most pledges\, they can work together to come up with fundraising ideas\, and more. Great time. Do you like pizza\, bowling\, and prizes? You can face off against friends\, earn office bragging rights\, or become a family legend. All while having fun &amp\; raising money for our youth.
LOCATION:Signature Lanes & Country Club Lanes
UID:e.689.17741
SEQUENCE:3
DTSTAMP:20260424T155401Z
URL:https://business.goshen.org/events/details/big-brothers-big-sisters-bowl-for-kids-sake-17741
END:VEVENT

END:VCALENDAR
