BEGIN:VCALENDAR
VERSION:2.0
PRODID:-//ChamberMaster//Event Calendar 2.0//EN
METHOD:PUBLISH
X-PUBLISHED-TTL:P3D
REFRESH-INTERVAL:P3D
CALSCALE:GREGORIAN
BEGIN:VEVENT
DTSTART:20190528T140000Z
DTEND:20190528T153000Z
X-MICROSOFT-CDO-ALLDAYEVENT:FALSE
SUMMARY:Be Calm and Gamelan
DESCRIPTION:The Nyai Oyer Gamelan at Goshen College will be the topic of this class. You will learn about the gift and its road to Goshen. You will also learn about the role of the Gamelan in Indonesian arts and culture. The class will play the Gamelan and learn about the various instruments. This class will meet in the Union Building where the Nyai Oyer Gamelan is currently housed. All can play the Gamelan regardless of musical skill level   even non-musical folks are welcome! Come to make and enjoy the beautiful sounds of Indonesian music. Enrollment in this class is limited to 30 members. Marcia works along with Deb Detwiler to administrate the Nyai Oyer Gamelan.She is currently the Director of Arts at Goshen College. Taught by Marcia Yost Register Online: www.life-learn.org Mail or Stop in: Goshen College Box Office\, 1700 South Main Street\, Goshen\, IN 46526 (Located in the Music Center lobby\, open M-F\, 9:00 a.m.-1:00 p.m.) Phone: 574-535-7566
X-ALT-DESC;FMTTYPE=text/html:The Nyai Oyer Gamelan at Goshen College will be the topic of this class. You will learn about the gift and its road to Goshen. You will also learn about the role of the Gamelan in Indonesian arts and culture. The class will play the Gamelan and learn about the various instruments. This class will meet in the Union Building where the Nyai Oyer Gamelan is currently housed. All can play the Gamelan regardless of musical skill level &ndash\; even non-musical folks are welcome! Come to make and enjoy the beautiful sounds of Indonesian music. Enrollment in this class is limited to 30 members. Marcia works along with Deb Detwiler to administrate the Nyai Oyer Gamelan.She is currently the Director of Arts at Goshen College. Taught by Marcia Yost Register Online: www.life-learn.org Mail or Stop in: Goshen College Box Office\, 1700 South Main Street\, Goshen\, IN 46526 (Located in the Music Center lobby\, open M-F\, 9:00 a.m.-1:00 p.m.) Phone: 574-535-7566
LOCATION:Goshen College Union Center
UID:e.689.18600
SEQUENCE:3
DTSTAMP:20260423T145805Z
URL:https://business.goshen.org/events/details/be-calm-and-gamelan-18600
END:VEVENT

END:VCALENDAR
