BEGIN:VCALENDAR
VERSION:2.0
PRODID:-//ChamberMaster//Event Calendar 2.0//EN
METHOD:PUBLISH
X-PUBLISHED-TTL:P3D
REFRESH-INTERVAL:P3D
CALSCALE:GREGORIAN
BEGIN:VEVENT
DTSTART:20170114T150000Z
DTEND:20170114T183000Z
X-MICROSOFT-CDO-ALLDAYEVENT:FALSE
SUMMARY:Basketball Camp
DESCRIPTION:This camp will launch participants into the sport of basketball. Camp is designed to introduce those new to the sport and to further participants understanding by instructing on a variety of basketball rules while also implementing new skills. This two-day camp is very helpful in preparing for youth basketball league play. Camp will meet at Waterford Elementary School\, 65560 IN-15\, on Saturday\, January 14 and Saturday\, January 21. Cost is only $10. Pre-register at the Park Office now through January 11. Ages 6   7: 10   11:30 am Ages 8   10: 12 noon   1:30 pm
X-ALT-DESC;FMTTYPE=text/html:This camp will launch participants into the sport of basketball. Camp is designed to introduce those new to the sport and to further participants understanding by instructing on a variety of basketball rules while also implementing new skills. This two-day camp is very helpful in preparing for youth basketball league play. Camp will meet at Waterford Elementary School\, 65560 IN-15\, on Saturday\, January 14 and Saturday\, January 21. Cost is only $10. Pre-register at the Park Office now through January 11. Ages 6 &ndash\; 7: 10 &ndash\; 11:30 am Ages 8 &ndash\; 10: 12 noon &ndash\; 1:30 pm
LOCATION:
UID:e.689.16195
SEQUENCE:3
DTSTAMP:20260425T154405Z
URL:https://business.goshen.org/events/details/basketball-camp-16195
END:VEVENT

END:VCALENDAR
