BEGIN:VCALENDAR
VERSION:2.0
PRODID:-//ChamberMaster//Event Calendar 2.0//EN
METHOD:PUBLISH
X-PUBLISHED-TTL:P3D
REFRESH-INTERVAL:P3D
CALSCALE:GREGORIAN
BEGIN:VEVENT
DTSTART:20210918T140000Z
DTEND:20210918T170000Z
X-MICROSOFT-CDO-ALLDAYEVENT:FALSE
SUMMARY:Basic Italic Calligraphy Workshop
DESCRIPTION:Come join us as we learn a basic hand that all calligraphers have in their toolbox. This three-hour class will introduce students to the beauty of the Italic form. Students will learn how to use a broad-edged pen\, how to do the basic strokes\, and how to create both the upper- and lowercase forms.\n\n\n\nSign up for the workshop at www.theimaginationspot.com or in person at The Imagination Spot in downtown Goshen.
X-ALT-DESC;FMTTYPE=text/html:Come join us as we learn a basic hand that all calligraphers have in their toolbox. This three-hour class will introduce students to the beauty of the Italic form. Students will learn how to use a broad-edged pen\, how to do the basic strokes\, and how to create both the upper- and lowercase forms.<br />\n<br />\nSign up for the workshop at www.theimaginationspot.com or in person at The Imagination Spot in downtown Goshen.<br />\n&nbsp\;
LOCATION:The Imagination Spot 111 E Washington St. Goshen\, IN 46528
UID:e.689.22658
SEQUENCE:3
DTSTAMP:20260421T131426Z
URL:https://business.goshen.org/events/details/basic-italic-calligraphy-workshop-22658
END:VEVENT

END:VCALENDAR
