BEGIN:VCALENDAR
VERSION:2.0
PRODID:-//ChamberMaster//Event Calendar 2.0//EN
METHOD:PUBLISH
X-PUBLISHED-TTL:P3D
REFRESH-INTERVAL:P3D
CALSCALE:GREGORIAN
BEGIN:VEVENT
DTSTART:20180224T140000Z
DTEND:20180224T160000Z
X-MICROSOFT-CDO-ALLDAYEVENT:FALSE
SUMMARY:Backyard Maple Syrup Workshop
DESCRIPTION:Tap into one of Indiana's sweetest traditions! Just a few dollars' worth of equipment and a single maple tree are all that's needed to make delicious maple syrup right from home.This hands-on workshop will teach Hoosiers how to turn their backyard maple trees into "liquid gold". Elkhart County Park naturalists will share the art of making maple syrup from guidance on picking the perfect tree down to techniques on simmering or "sugarin'" the sap to perfection. To sweeten the deal\, pancakes\, maple syrup\, sausages\, and drinks will be included in the program price. Following the class\, backyard sugarin' kits will also be available for purchase. Cost is $3.50/person and pre-registration before February 23 at 4 p.m. is required in order to attend. To pre-register\, please call the Elkhart County Parks administration office at 574-535-6458. More information\, including a schedule of upcoming events\, and directions to Bonneyville Mill County Park can be found at elkhartcountyparks.org or by calling the Elkhart County Parks administration office at 574-535-6458.
X-ALT-DESC;FMTTYPE=text/html:Tap into one of Indiana&rsquo\;s sweetest traditions! Just a few dollars&rsquo\; worth of equipment and a single maple tree are all that&rsquo\;s needed to make delicious maple syrup right from home.This hands-on workshop will teach Hoosiers how to turn their backyard maple trees into &ldquo\;liquid gold&rdquo\;. Elkhart County Park naturalists will share the art of making maple syrup&mdash\;from guidance on picking the perfect tree down to techniques on simmering or &ldquo\;sugarin&rsquo\;&rdquo\; the sap to perfection. To sweeten the deal\, pancakes\, maple syrup\, sausages\, and drinks will be included in the program price. Following the class\, backyard sugarin&rsquo\; kits will also be available for purchase. Cost is $3.50/person and pre-registration before February 23 at 4 p.m. is required in order to attend. To pre-register\, please call the Elkhart County Parks administration office at 574-535-6458. More information\, including a schedule of upcoming events\, and directions to Bonneyville Mill County Park can be found at elkhartcountyparks.org or by calling the Elkhart County Parks administration office at 574-535-6458.
LOCATION:Baldwin One Room Schoolhouse in Bonneyville Mill County Park - Directions here: https://goo.gl/maps/mWRHdT9PjD92
UID:e.689.17730
SEQUENCE:3
DTSTAMP:20260424T183613Z
URL:https://business.goshen.org/events/details/backyard-maple-syrup-workshop-17730
END:VEVENT

END:VCALENDAR
