BEGIN:VCALENDAR
VERSION:2.0
PRODID:-//ChamberMaster//Event Calendar 2.0//EN
METHOD:PUBLISH
X-PUBLISHED-TTL:P3D
REFRESH-INTERVAL:P3D
CALSCALE:GREGORIAN
BEGIN:VEVENT
DTSTART:20250325T230000Z
DTEND:20250326T010000Z
X-MICROSOFT-CDO-ALLDAYEVENT:FALSE
SUMMARY:Author Talk & Book Signing with Jessica Ronne
DESCRIPTION:Join us for an inspiring evening with Jessica Ronne\, author of Caregiving with Grit and Grace: 100 Days of Hope and Encouragement. As a caregiving advocate\, Jessica brings a unique perspective to the challenges and joys of caregiving\, offering wisdom and hope through her writing. Jessica is the CEO of The Lucas Project (thelucasproject.org)\, a nonprofit that supports caregivers of children with disabilities. She also hosts the podcast Coffee with Caregivers and shares her journey on her blog at jessplusthemess.com.\n\nAbout the Book:\n\nCaregiving is holy work.\n\nCaring for a loved one can stretch the heartstrings and the soul in equal measure\, leaving caregivers to walk an exhausting\, isolating\, stressful\, and seemingly thankless path. In Caregiving with Grit and Grace\, author Jessica Ronne offers solace for your journey and extends a heartfelt invitation to view your role through the lens of eternity. Learn to\n\n\n	reframe your challenges\,\n	embrace God's faithfulness\,\n	be more present with your loved ones\, and\n	draw strength from the fellowship of suffering.\n\n\nJesus sees your labor of love- every sacrifice\, every tender touch\, every hard-earned sigh. Let this book remind you that with every act of devotion\, you glorify God and reflect the heart of the One who cares for us all.\n\nAbout the Author:\n\nJess Ronne is an author\, speaker\, podcast host at Coffee with Caregivers\, associate producer of the Unseen Documentary\, and caregiver advocate. She is the founder and executive director of The Lucas Project\, a nonprofit dedicated to providing recognition\, resources\, and respite support for special needs families. She and her husband\, Ryan\, live in Michigan with their eight children\, including their son Lucas\, who has profound disabilities. Her story of beauty from ashes has been shared on The Today Show\, Daily Mail\, and Huffington Post and is detailed in her memoir\, Sunlight Burning at Midnight. She can be found at www.jessplusthemess.com to follow the ongoing saga or purchase her latest books\, Blended with Grit & Grace\, Lovin' Lovin'rit & Grace\, and Caregiving with Grit & Grace.\n\n??? This event is free\, but space is limited. Reserve your ticket now at fablesbooks.com/events. Books will be available for purchase before and during the event.
X-ALT-DESC;FMTTYPE=text/html:<p>Join us for an inspiring evening with Jessica Ronne\, author of Caregiving with Grit and Grace: 100 Days of Hope and Encouragement. As a caregiving advocate\, Jessica brings a unique perspective to the challenges and joys of caregiving\, offering wisdom and hope through her writing. Jessica is the CEO of&nbsp\;<a href="https://www.fablesbooks.com/events/thelucasproject.org" style="box-sizing: border-box\; background-color: transparent\; outline: none\; cursor: pointer\; transition: color 0.3s\; touch-action: manipulation\; color: rgb(0\, 0\, 0) !important\; text-decoration-line: none !important\;" target="_blank">The Lucas Project&nbsp\;</a>(<a href="https://www.fablesbooks.com/events/thelucasproject.org" style="box-sizing: border-box\; background-color: transparent\; outline: none\; cursor: pointer\; transition: color 0.3s\; touch-action: manipulation\; color: rgb(0\, 0\, 0) !important\; text-decoration-line: none !important\;" target="_blank">thelucasproject.org</a>)\, a nonprofit that supports caregivers of children with disabilities. She also hosts the podcast&nbsp\;<a href="https://podcasts.apple.com/us/podcast/coffee-with-caregivers/id1519009943" style="box-sizing: border-box\; background-color: transparent\; outline: none\; cursor: pointer\; transition: color 0.3s\; touch-action: manipulation\; color: rgb(0\, 0\, 0) !important\; text-decoration-line: none !important\;" target="_blank">Coffee with Caregivers</a>&nbsp\;and shares her journey on her blog at jessplusthemess.com.</p>\n\n<p><strong>About the Book:</strong></p>\n\n<p>Caregiving is holy work.</p>\n\n<p>Caring for a loved one can stretch the heartstrings and the soul in equal measure\, leaving caregivers to walk an exhausting\, isolating\, stressful\, and seemingly thankless path. In Caregiving with Grit and Grace\, author Jessica Ronne offers solace for your journey and extends a heartfelt invitation to view your role through the lens of eternity. Learn to</p>\n\n<ul>\n	<li>reframe your challenges\,</li>\n	<li>embrace God&#39\;s faithfulness\,</li>\n	<li>be more present with your loved ones\, and</li>\n	<li>draw strength from the fellowship of suffering.</li>\n</ul>\n\n<p>Jesus sees your labor of love- every sacrifice\, every tender touch\, every hard-earned sigh. Let this book remind you that with every act of devotion\, you glorify God and reflect the heart of the One who cares for us all.</p>\n\n<p><strong>About the Author:</strong></p>\n\n<p><a href="https://www.fablesbooks.com/events/www.jessplusthemess.com" style="box-sizing: border-box\; background-color: transparent\; outline: none\; cursor: pointer\; transition: color 0.3s\; touch-action: manipulation\; color: rgb(0\, 0\, 0) !important\; text-decoration-line: none !important\;" target="_blank">Jess Ronne</a>&nbsp\;is an author\, speaker\, podcast host at<a href="https://podcasts.apple.com/us/podcast/coffee-with-caregivers/id1519009943" style="box-sizing: border-box\; background-color: transparent\; outline: none\; cursor: pointer\; transition: color 0.3s\; touch-action: manipulation\; color: rgb(0\, 0\, 0) !important\; text-decoration-line: none !important\;" target="_blank">&nbsp\;Coffee with Caregivers</a>\, associate producer of the Unseen Documentary\, and caregiver advocate. She is the founder and executive director of<a href="https://www.fablesbooks.com/events/thelucasproject.org" style="box-sizing: border-box\; background-color: transparent\; outline: none\; cursor: pointer\; transition: color 0.3s\; touch-action: manipulation\; color: rgb(0\, 0\, 0) !important\; text-decoration-line: none !important\;" target="_blank">&nbsp\;The Lucas Project\,</a>&nbsp\;a nonprofit dedicated to providing recognition\, resources\, and respite support for special needs families. She and her husband\, Ryan\, live in Michigan with their eight children\, including their son Lucas\, who has profound disabilities. Her story of beauty from ashes has been shared on The Today Show\, Daily Mail\, and Huffington Post and is detailed in her memoir\, Sunlight Burning at Midnight. She&nbsp\;can be found at www.jessplusthemess.com to follow the ongoing saga or purchase her latest books\, Blended with Grit &amp\; Grace\, Lovin&rsquo\; Lovin&#39\;rit &amp\; Grace\, and Caregiving with Grit &amp\; Grace.</p>\n\n<p>??? This event is free\, but space is limited. Reserve your ticket now at fablesbooks.com/events. Books will be available for purchase before and during the event.</p>\n
LOCATION:Fables Books 215 S Main Street Goshen\, IN 46526
UID:e.689.25664
SEQUENCE:3
DTSTAMP:20260420T172316Z
URL:https://business.goshen.org/events/details/author-talk-book-signing-with-jessica-ronne-25664
END:VEVENT

END:VCALENDAR
