BEGIN:VCALENDAR
VERSION:2.0
PRODID:-//ChamberMaster//Event Calendar 2.0//EN
METHOD:PUBLISH
X-PUBLISHED-TTL:P3D
REFRESH-INTERVAL:P3D
CALSCALE:GREGORIAN
BEGIN:VEVENT
DTSTART;VALUE=DATE:20170804
DTEND;VALUE=DATE:20170805
TRANSP:TRANSPARENT
X-MICROSOFT-CDO-ALLDAYEVENT:TRUE
SUMMARY:August First Fridays CornFest!
DESCRIPTION:C'mon\, we're in Hoosier country   we think you can guess what CornFest! is all about. In this celebration of all-things corn\, you're invited to participate our first-ever Cornhole Tournament and munch on a wide variety of corny snacks. We'll have a beer tent and free concert on the First Fridays stage on East Washington!
X-ALT-DESC;FMTTYPE=text/html:<span style="color:rgb(86\, 86\, 86)\; font-family:open sans\,sans-serif\; font-size:14.4px">C&rsquo\;mon\, we&rsquo\;re in Hoosier country &ndash\; we think you can guess what CornFest! is all about. In this celebration of all-things corn\, you&rsquo\;re invited to participate our first-ever Cornhole Tournament and munch on a wide variety of corny snacks. We&rsquo\;ll have a beer tent and free concert on the First Fridays stage on East Washington!</span>
LOCATION:Downtown Goshen
UID:e.689.16839
SEQUENCE:3
DTSTAMP:20260425T035810Z
URL:https://business.goshen.org/events/details/august-first-fridays-cornfest-16839
END:VEVENT

END:VCALENDAR
