BEGIN:VCALENDAR
VERSION:2.0
PRODID:-//ChamberMaster//Event Calendar 2.0//EN
METHOD:PUBLISH
X-PUBLISHED-TTL:P3D
REFRESH-INTERVAL:P3D
CALSCALE:GREGORIAN
BEGIN:VEVENT
DTSTART:20170420T223000Z
DTEND:20170421T003000Z
X-MICROSOFT-CDO-ALLDAYEVENT:FALSE
SUMMARY:Attend our FREE class: ADULT DIABETES PREVENTION CLASS
DESCRIPTION:ARE YOU AT RISK? Risk factors for diabetes include:   Family history of heart disease/diabetes   Physically inactive or overweight   Pre diabetic/insulin resistant   Previous gestational diabetes   High blood pressure/high cholesterol If you have any of these risk factors you should attend this informative and free class. You will learn about nutrition\, weight loss and stress management.
X-ALT-DESC;FMTTYPE=text/html:ARE YOU AT RISK? Risk factors for diabetes include: &bull\; Family history of heart disease/diabetes &bull\; Physically inactive or overweight &bull\; Pre diabetic/insulin resistant &bull\; Previous gestational diabetes &bull\; High blood pressure/high cholesterol If you have any of these risk factors you should attend this informative and free class. You will learn about nutrition\, weight loss and stress management.
LOCATION:Goshen Heart & Vascular Center 1855 South Main St. Goshen\, IN 46526
UID:e.689.16729
SEQUENCE:3
DTSTAMP:20260425T122721Z
URL:https://business.goshen.org/events/details/attend-our-free-class-adult-diabetes-prevention-class-16729
END:VEVENT

END:VCALENDAR
