BEGIN:VCALENDAR
VERSION:2.0
PRODID:-//ChamberMaster//Event Calendar 2.0//EN
METHOD:PUBLISH
X-PUBLISHED-TTL:P3D
REFRESH-INTERVAL:P3D
CALSCALE:GREGORIAN
BEGIN:VEVENT
DTSTART:20190907T150000Z
DTEND:20190907T220000Z
X-MICROSOFT-CDO-ALLDAYEVENT:FALSE
SUMMARY:Arts on the Millrace
DESCRIPTION:Arts on the Millrace is a fine arts festival formed in 2014\, located on the gorgeous Goshen Millrace Canal just blocks away from Downtown Goshen\, the Goshen Farmer's Market\, and Goshen Brewing Company This family-friendly outdoor festival brings art buyers and music lovers from all over the greater Michiana area. A beer and wine tent and local food trucks round out the celebratory summer atmosphere. New artist applications will be accepted from June 20th - July 15th. https://cityonthego.wufoo.com/forms/z1w93iwx0ztm4x5/
X-ALT-DESC;FMTTYPE=text/html:Arts on the Millrace is a fine arts festival formed in 2014\, located on the gorgeous Goshen Millrace Canal just blocks away from Downtown Goshen\, the Goshen Farmer&rsquo\;s Market\, and Goshen Brewing Company This family-friendly outdoor festival brings art buyers and music lovers from all over the greater Michiana area. A beer and wine tent and local food trucks round out the celebratory summer atmosphere. New artist applications will be accepted from June 20th - July 15th. https://cityonthego.wufoo.com/forms/z1w93iwx0ztm4x5/
LOCATION:Arts on the Millrace
UID:e.689.19956
SEQUENCE:3
DTSTAMP:20260423T071619Z
URL:https://business.goshen.org/events/details/arts-on-the-millrace-19956
END:VEVENT

END:VCALENDAR
