BEGIN:VCALENDAR
VERSION:2.0
PRODID:-//ChamberMaster//Event Calendar 2.0//EN
METHOD:PUBLISH
X-PUBLISHED-TTL:P3D
REFRESH-INTERVAL:P3D
CALSCALE:GREGORIAN
BEGIN:VEVENT
DTSTART:20160718T140000Z
DTEND:20160718T153000Z
X-MICROSOFT-CDO-ALLDAYEVENT:FALSE
SUMMARY:Art Camp for Ages 10+
DESCRIPTION:This stimulating art study course is taught utilizing various art materials\, as well as incorporating the study of nature. The class instructor will capture campers? interest\, guiding both their aspirations and inspirations! Ages 6?9: July 11?15\, 10?11:30 am Ages 10+: July 18?22\, 10?11:30 am Fee: $45 Location: Rieth Interpretive Center --------------------------------------------------- Campamento de Arte: Este estimulante curso de estudios de arte se ense a utilizando varios materiales de arte\, incorporando el estudio de la naturaleza.  El instructor de la clase capturar  el inter s de los campistas\, guiar  tanto sus aspiraciones como sus inspiraciones! 6?9 a os: 11?15 de julio\, 10?11:30 am 10 a os y mayores: 18?22 de julio\, 10?11:30 am Inscripci n: Ahora?8 de julio Cuota: $45 Lugar: Rieth Interpretive Center
X-ALT-DESC;FMTTYPE=text/html:This stimulating art study course is taught utilizing various art materials\, as well as incorporating the study of nature. The class instructor will capture campers? interest\, guiding both their aspirations and inspirations! Ages 6?9: July 11?15\, 10?11:30 am Ages 10+: July 18?22\, 10?11:30 am Fee: $45 Location: Rieth Interpretive Center --------------------------------------------------- Campamento de Arte: Este estimulante curso de estudios de arte se ense&ntilde\;a utilizando varios materiales de arte\, incorporando el estudio de la naturaleza. &iexcl\;El instructor de la clase capturar&aacute\; el inter&eacute\;s de los campistas\, guiar&aacute\; tanto sus aspiraciones como sus inspiraciones! 6?9 a&ntilde\;os: 11?15 de julio\, 10?11:30 am 10 a&ntilde\;os y mayores: 18?22 de julio\, 10?11:30 am Inscripci&oacute\;n: Ahora?8 de julio Cuota: $45 Lugar: Rieth Interpretive Center
LOCATION:Rieth Interpretive Center
UID:e.689.15919
SEQUENCE:3
DTSTAMP:20260426T004948Z
URL:https://business.goshen.org/events/details/art-camp-for-ages-10-07-18-2016-15919
END:VEVENT

END:VCALENDAR
