BEGIN:VCALENDAR
VERSION:2.0
PRODID:-//ChamberMaster//Event Calendar 2.0//EN
METHOD:PUBLISH
X-PUBLISHED-TTL:P3D
REFRESH-INTERVAL:P3D
CALSCALE:GREGORIAN
BEGIN:VEVENT
DTSTART:20190808T120000Z
DTEND:20190808T220000Z
X-MICROSOFT-CDO-ALLDAYEVENT:FALSE
SUMMARY:Annual Golf & Tennis Outing-New Day for 2019!
DESCRIPTION:Goshen Chamber\n\n2019 Golf Outing\n\n\n\nWe have two tee off times:\n\n8:00 am\n\n1:30 pm\n\nTeams of four(4)\n\nIncludes meal\, snacks\, drinks\, 18 holes of golf!  \n\n\n\nCall the Chamber for registration
X-ALT-DESC;FMTTYPE=text/html:<div style="text-align: center\;"><span style="font-size:22px\;"><strong background-color:="" font-size:="" style="color: rgb(51\, 51\, 51)\; font-family: sans-serif\, Arial\, Verdana\, " text-align:="" trebuchet="">Goshen Chamber<br />\n2019&nbsp\;Golf Outing<br />\n<br />\nWe have two tee off times:<br />\n8:00 am<br />\n1:30 pm<br />\nTeams of four(4)<br />\nIncludes meal\, snacks\, drinks\, 18 holes of golf!&nbsp\;&nbsp\;</strong><br background-color:="" font-size:="" style="color: rgb(51\, 51\, 51)\; font-family: sans-serif\, Arial\, Verdana\, " text-align:="" trebuchet="" />\n<br background-color:="" font-size:="" style="color: rgb(51\, 51\, 51)\; font-family: sans-serif\, Arial\, Verdana\, " text-align:="" trebuchet="" />\n<span background-color:="" font-size:="" style="color: rgb(51\, 51\, 51)\; font-family: sans-serif\, Arial\, Verdana\, " text-align:="" trebuchet="">Call&nbsp\;the&nbsp\;Chamber for registration</span></span><br background-color:="" font-size:="" style="color: rgb(51\, 51\, 51)\; font-family: sans-serif\, Arial\, Verdana\, " text-align:="" trebuchet="" />\n<br background-color:="" font-size:="" style="color: rgb(51\, 51\, 51)\; font-family: sans-serif\, Arial\, Verdana\, " text-align:="" trebuchet="" />\n&nbsp\;</div>\n
LOCATION:Maplecrest County Club 611 Hackett Road Goshen\, IN
UID:e.689.18535
SEQUENCE:3
DTSTAMP:20260423T091341Z
URL:https://business.goshen.org/events/details/annual-golf-tennis-outing-new-day-for-2019-18535
END:VEVENT

END:VCALENDAR
