BEGIN:VCALENDAR
VERSION:2.0
PRODID:-//ChamberMaster//Event Calendar 2.0//EN
METHOD:PUBLISH
X-PUBLISHED-TTL:P3D
REFRESH-INTERVAL:P3D
CALSCALE:GREGORIAN
BEGIN:VEVENT
DTSTART:20180808T120000Z
DTEND:20180808T220000Z
X-MICROSOFT-CDO-ALLDAYEVENT:FALSE
SUMMARY:Annual Golf and Tennis Outing 2018
DESCRIPTION:Goshen Chamber\n\n2018 Golf and Tennis Outing\n\n\n\nCall the Chamber for registration\n\n\n\nThank you to our Major Sponsors\n\n\n\nEby Ford Lincoln\n\n\n\nGoshen Health\n\n\n\nInterra Credit Union\n\n\n\nRSM
X-ALT-DESC;FMTTYPE=text/html:<div style="text-align: center\;"><span background-color:="" font-size:="" style="color: rgb(51\, 51\, 51)\; font-family: sans-serif\, Arial\, Verdana\, " text-align:="" trebuchet=""><strong>Goshen Chamber<br />\n2018&nbsp\;Golf and Tennis Outing</strong><br />\n<br />\nCall&nbsp\;the&nbsp\;Chamber for registration<br />\n<br />\n<strong><span style="font-size: 24px\;">Thank you to&nbsp\;our Major Sponsors<br />\n<br />\n<span style="font-size:28px\;">Eby Ford Lincoln</span></span><br />\n<br />\n<span style="font-size:28px\;">Goshen Health<br />\n<br />\nInterra&nbsp\;Credit Union<br />\n<br />\nRSM</span></strong></span></div>\n
LOCATION:Maplecrest County Club 611 Hackett Road Goshen\, IN 46528
UID:e.689.17852
SEQUENCE:3
DTSTAMP:20260424T071453Z
URL:https://business.goshen.org/events/details/annual-golf-and-tennis-outing-2018-17852
END:VEVENT

END:VCALENDAR
