BEGIN:VCALENDAR
VERSION:2.0
PRODID:-//ChamberMaster//Event Calendar 2.0//EN
METHOD:PUBLISH
X-PUBLISHED-TTL:P3D
REFRESH-INTERVAL:P3D
CALSCALE:GREGORIAN
BEGIN:VEVENT
DTSTART;VALUE=DATE:20170809
DTEND;VALUE=DATE:20170810
TRANSP:TRANSPARENT
X-MICROSOFT-CDO-ALLDAYEVENT:TRUE
SUMMARY:Annual Golf and Tennis Outing 2017
DESCRIPTION:Goshen Chamber\n\n2017 Golf and Tennis Outing\n\n\n\nCall the Chamber for registration\n\n\n\nThank you to our Major Sponsors\n\n\n\nGoshen Health\n\nCommunity Foundation of Elkhart County\n\nRSM\n\nEBY Ford Lincoln\n\nInterra Credit Union
X-ALT-DESC;FMTTYPE=text/html:<div style="text-align: center\;"><span style="color: rgb(51\, 51\, 51)\; font-family: sans-serif\, Arial\, Verdana\, &quot\;Trebuchet MS&quot\;\; text-align: center\; background-color: rgb(255\, 255\, 255)\; font-size: 20px\;">&nbsp\;<strong>Goshen Chamber<br />\n2017&nbsp\;Golf and Tennis Outing</strong><br />\n<br />\nCall&nbsp\;the&nbsp\;Chamber for registration<br />\n<br />\n<strong><span style="font-size: 24px\;">Thank you to&nbsp\;our Major Sponsors</span><br />\n<br />\n<span style="font-size:22px\;">Goshen Health<br />\nCommunity Foundation of Elkhart County<br />\nRSM<br />\nEBY Ford Lincoln<br />\nInterra Credit Union</span></strong></span><br />\n<br />\n&nbsp\;</div>\n
LOCATION:Maplecrest County Club 611 Hackett Road Goshen\, IN 46528
UID:e.689.16354
SEQUENCE:3
DTSTAMP:20260425T035913Z
URL:https://business.goshen.org/events/details/annual-golf-and-tennis-outing-2017-16354
END:VEVENT

END:VCALENDAR
