BEGIN:VCALENDAR
VERSION:2.0
PRODID:-//ChamberMaster//Event Calendar 2.0//EN
METHOD:PUBLISH
X-PUBLISHED-TTL:P3D
REFRESH-INTERVAL:P3D
CALSCALE:GREGORIAN
BEGIN:VEVENT
DTSTART:20180912T123000Z
DTEND:20180912T190000Z
X-MICROSOFT-CDO-ALLDAYEVENT:FALSE
SUMMARY:Amish Country Entrepreneur Adventure
DESCRIPTION:Come along on a trip through Amish country and step off the bus at five different Amish businesses: a Casket Maker\, a Leather Shop\, a Buggy Maker\, a Quilt Shop\, and a Toy Manufacturer. We will have lunch at Yoder Homestyle Cooking. Our tour guide will be Orley S. Miller\, a resident near Shipshewana who is part of the Amish church. Bus capacity each day is 24 people. Board the bus at the Greencroft Community Center. Register at http://life-learn.org/ or call 574-535-7566.
X-ALT-DESC;FMTTYPE=text/html:Come along on a trip through Amish country and step off the bus at five different Amish businesses: a Casket Maker\, a Leather Shop\, a Buggy Maker\, a Quilt Shop\, and a Toy Manufacturer. We will have lunch at Yoder Homestyle Cooking. Our tour guide will be Orley S. Miller\, a resident near Shipshewana who is part of the Amish church. Bus capacity each day is 24 people. Board the bus at the Greencroft Community Center. Register at http://life-learn.org/ or call 574-535-7566.
LOCATION:Greencroft Goshen Community Center\, 1820 Greencroft Blvd.
UID:e.689.17900
SEQUENCE:3
DTSTAMP:20260423T160043Z
URL:https://business.goshen.org/events/details/amish-country-entrepreneur-adventure-09-12-2018-17900
END:VEVENT

END:VCALENDAR
