BEGIN:VCALENDAR
VERSION:2.0
PRODID:-//ChamberMaster//Event Calendar 2.0//EN
METHOD:PUBLISH
X-PUBLISHED-TTL:P3D
REFRESH-INTERVAL:P3D
CALSCALE:GREGORIAN
BEGIN:VEVENT
DTSTART:20160903T130000Z
DTEND:20160903T170000Z
X-MICROSOFT-CDO-ALLDAYEVENT:FALSE
SUMMARY:American Red Cross Blood Drive
DESCRIPTION:Be a good scout. Donate blood. Blood Drive sponsored by Terik Jenkins\, of Boy Scout Troop 714. Located near JCPenney. Please call 1-800-RED CROSS or go to redcrossblood.org\, sponsor code "concmall" to schedule your blood donation appointment. Get a Red Cross duffle bag this Labor Day! #ChooseYourDay to give Sept. 2-6\, while supplies last.
X-ALT-DESC;FMTTYPE=text/html:Be a good scout. Donate blood. Blood Drive sponsored by Terik Jenkins\, of Boy Scout Troop 714. Located near JCPenney. Please call 1-800-RED CROSS or go to redcrossblood.org\, sponsor code &quot\;concmall&quot\; to schedule your blood donation appointment. Get a Red Cross duffle bag this Labor Day! #ChooseYourDay to give Sept. 2-6\, while supplies last.
LOCATION:Concord Mall 3701 S. Main Street Elkhart\, IN 46517 574-875-6502
UID:e.689.16169
SEQUENCE:3
DTSTAMP:20260425T234513Z
URL:https://business.goshen.org/events/details/american-red-cross-blood-drive-16169
END:VEVENT

END:VCALENDAR
