BEGIN:VCALENDAR
VERSION:2.0
PRODID:-//ChamberMaster//Event Calendar 2.0//EN
METHOD:PUBLISH
X-PUBLISHED-TTL:P3D
REFRESH-INTERVAL:P3D
CALSCALE:GREGORIAN
BEGIN:VEVENT
DTSTART:20200228T130000Z
DTEND:20200228T143000Z
X-MICROSOFT-CDO-ALLDAYEVENT:FALSE
SUMMARY:Advocate @8
DESCRIPTION:Advocate @8\n\n\n\n  Our Advocate @8 gives the legislators and the voters a change to communicate in an open form.
X-ALT-DESC;FMTTYPE=text/html:<div style="text-align: center\;"><span style="color: rgb(51\, 51\, 51)\; font-family: sans-serif\, Arial\, Verdana\, &quot\;Trebuchet MS&quot\;\; font-size: 13px\; text-align: center\; background-color: rgb(255\, 255\, 255)\;">Advocate @8</span><br style="color: rgb(51\, 51\, 51)\; font-family: sans-serif\, Arial\, Verdana\, &quot\;Trebuchet MS&quot\;\; font-size: 13px\; text-align: center\; background-color: rgb(255\, 255\, 255)\;" />\n<br style="color: rgb(51\, 51\, 51)\; font-family: sans-serif\, Arial\, Verdana\, &quot\;Trebuchet MS&quot\;\; font-size: 13px\; text-align: center\; background-color: rgb(255\, 255\, 255)\;" />\n<span style="color: rgb(51\, 51\, 51)\; font-family: sans-serif\, Arial\, Verdana\, &quot\;Trebuchet MS&quot\;\; font-size: 13px\; text-align: center\; background-color: rgb(255\, 255\, 255)\;">&nbsp\; Our Advocate @8 gives the legislators and the voters a change to communicate in an open form.</span></div>\n
LOCATION:Goshen Chamber office 232 S. Main Street Goshen\, IN 46526
UID:e.689.20578
SEQUENCE:3
DTSTAMP:20260422T223847Z
URL:https://business.goshen.org/events/details/advocate-8-20578
END:VEVENT

END:VCALENDAR
