BEGIN:VCALENDAR
VERSION:2.0
PRODID:-//ChamberMaster//Event Calendar 2.0//EN
METHOD:PUBLISH
X-PUBLISHED-TTL:P3D
REFRESH-INTERVAL:P3D
CALSCALE:GREGORIAN
BEGIN:VEVENT
DTSTART:20200124T130000Z
DTEND:20200124T143000Z
X-MICROSOFT-CDO-ALLDAYEVENT:FALSE
SUMMARY:Advocate @8
DESCRIPTION:Advocate @8\n\n\n\n  Our Advocate @8 gives the legislators and the voters a change to communicate in an open form.
X-ALT-DESC;FMTTYPE=text/html:<div style="text-align: center\;">Advocate @8<br />\n<br />\n&nbsp\; Our Advocate @8 gives the legislators and the voters a change to communicate in an open form.</div>\n
LOCATION:Goshen Chamber of Commerce Building 232 S. Main Street Goshen\, IN 45526
UID:e.689.20576
SEQUENCE:3
DTSTAMP:20260423T015154Z
URL:https://business.goshen.org/events/details/advocate-8-20576
END:VEVENT

END:VCALENDAR
