BEGIN:VCALENDAR
VERSION:2.0
PRODID:-//ChamberMaster//Event Calendar 2.0//EN
METHOD:PUBLISH
X-PUBLISHED-TTL:P3D
REFRESH-INTERVAL:P3D
CALSCALE:GREGORIAN
BEGIN:VEVENT
DTSTART:20160705T214500Z
DTEND:20160705T224500Z
X-MICROSOFT-CDO-ALLDAYEVENT:FALSE
SUMMARY:Adult Outdoor Boot Camp
DESCRIPTION:Join our highly inspired and high-octane cardio and strength training program. This workout concentrates on motivating you while providing the basics\, moving you into your best personal fitness while you have tons of fun! Each eight-week session meets outdoors at Rieth Interpretive Center\, 410 West Plymouth Avenue\, and will incorporate our new outdoor fitness park. Class meets for one hour Saturdays at 8 am and one hour Tuesdays and Thursdays at 5:45 pm (class on Saturday\, July 9 meets at The Women?s Retreat\, 1135 Professional Drive). Cost for the eight-week session is $45 or $5.50 per class drop-in rate. Pre-registration is required at the Goshen Parks & Recreation Office\, 607 West Plymouth Avenue\; Mon-Fri\, 7 am- 4 pm. Summer I: May 3?June 25 Summer II: July 5?August 27 --------------------------------------------- Campo de Entrenamiento al Aire Libre: Unase a nuestro programa altamente inspirado de entrenamiento cardio de alta resistencia y fortaleza. Este ejercicio de entrenamiento se concentra en motivarlo a la vez que les proporciona lo b sico\, pas ndolo a su mejor forma personal mientras se divierte mucho! Cada sesi n de ocho semanas se re ne al aire libre en el Rieth Interpretive Center en 410 West Plymouth Avenue y estar  incorporado a nuestro nuevo parque de ejercicio en exterior. Los participantes tambi n tendr n la opci n de unirse a nuestro reto del perdedor m s grande con la oportunidad de ganar un premio. La clase se re ne por una hora los s bados a las 8 am y una hora los martes y jueves a las 5:45 pm. El costo de la sesi n de ocho semanas es de $45 o $5.50 por clase. Se requiere pre-inscripci n en la oficina de Parques y recreaci n de Goshen en 607 West Plymouth Avenue. Sesi n de verano I: 3 de mayo?25 de junio Sesi n de verano II: 5 de julio?27 de agosto (la  ltima clase el 9 de julio se re ne en la Women?s Retreat\, 1135 Professional Drive).
X-ALT-DESC;FMTTYPE=text/html:Join our highly inspired and high-octane cardio and strength training program. This workout concentrates on motivating you while providing the basics\, moving you into your best personal fitness while you have tons of fun! Each eight-week session meets outdoors at Rieth Interpretive Center\, 410 West Plymouth Avenue\, and will incorporate our new outdoor fitness park. Class meets for one hour Saturdays at 8 am and one hour Tuesdays and Thursdays at 5:45 pm (class on Saturday\, July 9 meets at The Women?s Retreat\, 1135 Professional Drive). Cost for the eight-week session is $45 or $5.50 per class drop-in rate. Pre-registration is required at the Goshen Parks &amp\; Recreation Office\, 607 West Plymouth Avenue\; Mon-Fri\, 7 am- 4 pm. Summer I: May 3?June 25 Summer II: July 5?August 27 --------------------------------------------- Campo de Entrenamiento al Aire Libre: Unase a nuestro programa altamente inspirado de entrenamiento cardio de alta resistencia y fortaleza. Este ejercicio de entrenamiento se concentra en motivarlo a la vez que les proporciona lo b&aacute\;sico\, pas&aacute\;ndolo a su mejor forma personal mientras se divierte mucho! Cada sesi&oacute\;n de ocho semanas se re&uacute\;ne al aire libre en el Rieth Interpretive Center en 410 West Plymouth Avenue y estar&aacute\; incorporado a nuestro nuevo parque de ejercicio en exterior. Los participantes tambi&eacute\;n tendr&aacute\;n la opci&oacute\;n de unirse a nuestro reto del perdedor m&aacute\;s grande con la oportunidad de ganar un premio. La clase se re&uacute\;ne por una hora los s&aacute\;bados a las 8 am y una hora los martes y jueves a las 5:45 pm. El costo de la sesi&oacute\;n de ocho semanas es de $45 o $5.50 por clase. Se requiere pre-inscripci&oacute\;n en la oficina de Parques y recreaci&oacute\;n de Goshen en 607 West Plymouth Avenue. Sesi&oacute\;n de verano I: 3 de mayo?25 de junio Sesi&oacute\;n de verano II: 5 de julio?27 de agosto (la &uacute\;ltima clase el 9 de julio se re&uacute\;ne en la Women?s Retreat\, 1135 Professional Drive).
LOCATION:Rieth Interpretive Center
UID:e.689.15917
SEQUENCE:3
DTSTAMP:20260426T022923Z
URL:https://business.goshen.org/events/details/adult-outdoor-boot-camp-07-05-2016-15917
END:VEVENT

END:VCALENDAR
