BEGIN:VCALENDAR
VERSION:2.0
PRODID:-//ChamberMaster//Event Calendar 2.0//EN
METHOD:PUBLISH
X-PUBLISHED-TTL:P3D
REFRESH-INTERVAL:P3D
CALSCALE:GREGORIAN
BEGIN:VEVENT
DTSTART:20160503T214500Z
DTEND:20160503T224500Z
X-MICROSOFT-CDO-ALLDAYEVENT:FALSE
SUMMARY:Adult Outdoor Boot Camp
DESCRIPTION:Join our highly inspired and high-octane cardio and strength training program. This workout concentrates on motivating you while providing the basics\, moving you into your best personal fitness while you have tons of fun! Each eight-week session meets outdoors at Rieth Interpretive Center\, 410 West Plymouth Avenue\, and will incorporate our new outdoor fitness park. Class meets for one hour Saturdays at 8 am and one hour Tuesdays and Thursdays at 5:45 pm (class on Saturday\, July 9 meets at The Women?s Retreat\, 1135 Professional Drive). Cost for the eight-week session is $45 or $5.50 per class drop-in rate. Pre-registration is required at the Goshen Parks & Recreation Office\, 607 West Plymouth Avenue\; Mon-Fri\, 7 am- 4 pm. Summer I: May 3?June 25 Summer II: July 5?August 27
X-ALT-DESC;FMTTYPE=text/html:Join our highly inspired and high-octane cardio and strength training program. This workout concentrates on motivating you while providing the basics\, moving you into your best personal fitness while you have tons of fun! Each eight-week session meets outdoors at Rieth Interpretive Center\, 410 West Plymouth Avenue\, and will incorporate our new outdoor fitness park. Class meets for one hour Saturdays at 8 am and one hour Tuesdays and Thursdays at 5:45 pm (class on Saturday\, July 9 meets at The Women?s Retreat\, 1135 Professional Drive). Cost for the eight-week session is $45 or $5.50 per class drop-in rate. Pre-registration is required at the Goshen Parks &amp\; Recreation Office\, 607 West Plymouth Avenue\; Mon-Fri\, 7 am- 4 pm. Summer I: May 3?June 25 Summer II: July 5?August 27
LOCATION:
UID:e.689.15836
SEQUENCE:3
DTSTAMP:20260426T035923Z
URL:https://business.goshen.org/events/details/adult-outdoor-boot-camp-05-03-2016-15836
END:VEVENT

END:VCALENDAR
