BEGIN:VCALENDAR
VERSION:2.0
PRODID:-//ChamberMaster//Event Calendar 2.0//EN
METHOD:PUBLISH
X-PUBLISHED-TTL:P3D
REFRESH-INTERVAL:P3D
CALSCALE:GREGORIAN
BEGIN:VEVENT
DTSTART:20160718T220000Z
DTEND:20160719T010000Z
X-MICROSOFT-CDO-ALLDAYEVENT:FALSE
SUMMARY:Adult Fall Softball League
DESCRIPTION:Officiated and ASA-sanctioned league with league rule variations. Doubleheader format and a single-elimination tournament will follow regular season play. Awards are given to top two tournament champions in each division. Standings are kept throughout the season and posted to the league website: www.leaguelineup.com/gprdsoftball. Season: July 18- September 23 Location: Shanklin Park Team Fee: $450/team Pre-registration is required and is being accepted now at the Parks Office\, 607 W. Plymouth Avenue\, through July 8 or until league is full! League Skill Levels: Monday C Tuesday C Thursday AB Friday B AB= Good to Advanced Players/Team B= Intermediate\, Moderate to Highly Skilled Players/Team C= Recreational\, Average to Above Average Players/Team Leagues will have Scorekeeper/Announcer ? Team Manager meeting TBA ? Team roster due by first game ? All games are doubleheaders ? Games played at Shanklin Park with a post-season tournament ? Over 14 games per team ? 6 team minimum-8 maximum/division Call Frank at (574)534-6723 for further information --------------------------------------------------------- Liga de Softball de Oto o (para adultos)? Varonil\, Lanzamiento Lento: Liga arbitrada y sancionada por ASA con variaciones en su reglamento. Un formato de doble carrera y eliminatoria sencilla seguir  el juego regular de temporada. Se otorgar  un reconocimiento a los dos mejores campeones del torneo en cada divisi n. Los puntajes se llevar n durante la temporada y se podr n encontrar en la p gina de internet de la liga: www.leaguelineup.com/gprdsoftball. Los juegos son los lunes\, martes\, jueves o viernes\, dependiendo del nivel de juego. Temporada: 18 de julio?23 de septiembre (fechas dependen del clima y juegos de reposici n). Lugar: Shanklin Park Cuota por equipo: $450 Registro: Desde ahora hasta el 8 de julio (o hasta llenar cupo) Contacto: Frank al 534-2901
X-ALT-DESC;FMTTYPE=text/html:Officiated and ASA-sanctioned league with league rule variations. Doubleheader format and a single-elimination tournament will follow regular season play. Awards are given to top two tournament champions in each division. Standings are kept throughout the season and posted to the league website: www.leaguelineup.com/gprdsoftball. Season: July 18- September 23 Location: Shanklin Park Team Fee: $450/team Pre-registration is required and is being accepted now at the Parks Office\, 607 W. Plymouth Avenue\, through July 8 or until league is full! League Skill Levels: Monday C Tuesday C Thursday AB Friday B AB= Good to Advanced Players/Team B= Intermediate\, Moderate to Highly Skilled Players/Team C= Recreational\, Average to Above Average Players/Team Leagues will have Scorekeeper/Announcer ? Team Manager meeting TBA ? Team roster due by first game ? All games are doubleheaders ? Games played at Shanklin Park with a post-season tournament ? Over 14 games per team ? 6 team minimum-8 maximum/division Call Frank at (574)534-6723 for further information --------------------------------------------------------- Liga de Softball de Oto&ntilde\;o (para adultos)? Varonil\, Lanzamiento Lento: Liga arbitrada y sancionada por ASA con variaciones en su reglamento. Un formato de doble carrera y eliminatoria sencilla seguir&aacute\; el juego regular de temporada. Se otorgar&aacute\; un reconocimiento a los dos mejores campeones del torneo en cada divisi&oacute\;n. Los puntajes se llevar&aacute\;n durante la temporada y se podr&aacute\;n encontrar en la p&aacute\;gina de internet de la liga: www.leaguelineup.com/gprdsoftball. Los juegos son los lunes\, martes\, jueves o viernes\, dependiendo del nivel de juego. Temporada: 18 de julio?23 de septiembre (fechas dependen del clima y juegos de reposici&oacute\;n). Lugar: Shanklin Park Cuota por equipo: $450 Registro: Desde ahora hasta el 8 de julio (o hasta llenar cupo) Contacto: Frank al 534-2901
LOCATION:Shanklin Park
UID:e.689.15922
SEQUENCE:3
DTSTAMP:20260426T022925Z
URL:https://business.goshen.org/events/details/adult-fall-softball-league-07-18-2016-15922
END:VEVENT

END:VCALENDAR
