BEGIN:VCALENDAR
VERSION:2.0
PRODID:-//ChamberMaster//Event Calendar 2.0//EN
METHOD:PUBLISH
X-PUBLISHED-TTL:P3D
REFRESH-INTERVAL:P3D
CALSCALE:GREGORIAN
BEGIN:VEVENT
DTSTART:20161110T233000Z
DTEND:20161111T013000Z
X-MICROSOFT-CDO-ALLDAYEVENT:FALSE
SUMMARY:ADULT DIABETES PREVENTION CLASS
DESCRIPTION:Attend our FREE class Risk factors for diabetes include:   Family History of Heart Disease/Diabetes   Physically Inactive or Overweight   Pre Diabetic/Insulin Resistant   Previous Gestational Diabetes   High Blood Pressure/High Cholesterol If you have any of these risk factors you should attend this informative and free class. You will learn about nutrition\, weight loss and stress management.
X-ALT-DESC;FMTTYPE=text/html:Attend our FREE class Risk factors for diabetes include: &bull\; Family History of Heart Disease/Diabetes &bull\; Physically Inactive or Overweight &bull\; Pre Diabetic/Insulin Resistant &bull\; Previous Gestational Diabetes &bull\; High Blood Pressure/High Cholesterol If you have any of these risk factors you should attend this informative and free class. You will learn about nutrition\, weight loss and stress management.
LOCATION:Goshen Heart & Vascular Center 1855 South Main St. Goshen\, IN 46526
UID:e.689.16266
SEQUENCE:3
DTSTAMP:20260425T190314Z
URL:https://business.goshen.org/events/details/adult-diabetes-prevention-class-16266
END:VEVENT

END:VCALENDAR
