BEGIN:VCALENDAR
VERSION:2.0
PRODID:-//ChamberMaster//Event Calendar 2.0//EN
METHOD:PUBLISH
X-PUBLISHED-TTL:P3D
REFRESH-INTERVAL:P3D
CALSCALE:GREGORIAN
BEGIN:VEVENT
DTSTART:20171113T233000Z
DTEND:20171114T013000Z
X-MICROSOFT-CDO-ALLDAYEVENT:FALSE
SUMMARY:ADULT DIABETES PREVENTION CLASS
DESCRIPTION:Attend this FREE class ARE YOU AT RISK? Risk factors for diabetes include:   Family history of heart disease/diabetes   Physically inactive or overweight   Pre diabetic/insulin resistant   Previous gestational diabetes   High blood pressure/high cholesterol If you have any of these risk factors you should attend this informative and free class. You will learn about nutrition\, weight loss and stress management. The class is FREE and open to the public. To register\, visit GoshenHealth.com/Find-Events.
X-ALT-DESC;FMTTYPE=text/html:Attend this FREE class ARE YOU AT RISK? Risk factors for diabetes include: &bull\; Family history of heart disease/diabetes &bull\; Physically inactive or overweight &bull\; Pre diabetic/insulin resistant &bull\; Previous gestational diabetes &bull\; High blood pressure/high cholesterol If you have any of these risk factors you should attend this informative and free class. You will learn about nutrition\, weight loss and stress management. The class is FREE and open to the public. To register\, visit GoshenHealth.com/Find-Events.
LOCATION:Goshen Heart & Vascular Center\, 1855 South Main St.\, Goshen\, IN 46526
UID:e.689.17013
SEQUENCE:3
DTSTAMP:20260424T231426Z
URL:https://business.goshen.org/events/details/adult-diabetes-prevention-class-11-13-2017-17013
END:VEVENT

END:VCALENDAR
