BEGIN:VCALENDAR
VERSION:2.0
PRODID:-//ChamberMaster//Event Calendar 2.0//EN
METHOD:PUBLISH
X-PUBLISHED-TTL:P3D
REFRESH-INTERVAL:P3D
CALSCALE:GREGORIAN
BEGIN:VEVENT
DTSTART:20170515T230000Z
DTEND:20170516T010000Z
X-MICROSOFT-CDO-ALLDAYEVENT:FALSE
SUMMARY:Adult Co-ed Sand Volleyball
DESCRIPTION:Officiated league with a leisure division and a competitive division\, six vs. six format. League plays at Pringle Park's sand lots. Season concludes with a seeded single-elimination tournament\, with awards given to top two tournament champions in each division. Standings are kept throughout the season and posted to league website: www.leaguelineup.com/gprdvolleyball. Indoor co-ed volleyball play begins in November\; contact Frank for more information. Day: Monday B (lower) or Tuesday A (upper) Season: May 15 August 8 Game Time: Evenings Location: Pringle Park\, 1912 West Lincoln Avenue Team Fee: $150 Register: Now through April 28 (or until full) at Goshen Parks Office Contact: Frank at 534-2901
X-ALT-DESC;FMTTYPE=text/html:Officiated league with a leisure division and a competitive division\, six vs. six format. League plays at Pringle Park&rsquo\;s sand lots. Season concludes with a seeded single-elimination tournament\, with awards given to top two tournament champions in each division. Standings are kept throughout the season and posted to league website: www.leaguelineup.com/gprdvolleyball. Indoor co-ed volleyball play begins in November\; contact Frank for more information. Day: Monday B (lower) or Tuesday A (upper) Season: May 15&ndash\;August 8 Game Time: Evenings Location: Pringle Park\, 1912 West Lincoln Avenue Team Fee: $150 Register: Now through April 28 (or until full) at Goshen Parks Office Contact: Frank at 534-2901
LOCATION:
UID:e.689.16661
SEQUENCE:3
DTSTAMP:20260425T104428Z
URL:https://business.goshen.org/events/details/adult-co-ed-sand-volleyball-16661
END:VEVENT

END:VCALENDAR
