BEGIN:VCALENDAR
VERSION:2.0
PRODID:-//ChamberMaster//Event Calendar 2.0//EN
METHOD:PUBLISH
X-PUBLISHED-TTL:P3D
REFRESH-INTERVAL:P3D
CALSCALE:GREGORIAN
BEGIN:VEVENT
DTSTART:20170516T220000Z
DTEND:20170517T000000Z
X-MICROSOFT-CDO-ALLDAYEVENT:FALSE
SUMMARY:Adult Ballroom Dance Classes
DESCRIPTION:Join in the fun of learning to dance the Rumba\, Fox Trot\, Waltz\, and Swing- all while keeping fit! All ages are welcome. A perfect opportunity to prepare for upcoming spring and summer weddings and events. Register as an individual or with your friend\, partner or spouse to make this class more enjoyable. Two class levels are available: Introductory for those beginning to explore dance and Intermediate for those who have some dance experience and have completed our Introductory class. Instructor Ted Campbell will determine dance level. Continuous sessions are available at the Schrock Pavilion on Tuesdays to use as further dance growth or to better serve your scheduling purposes. Cost is $25 per person. Spring Session I: April 4 May 9 Spring Session II: May 16- June 20 Summer Session I: June 27- August 8 (no class July 4) Summer Session II: August 15- September 19 Introductory Ballroom: Tuesdays\, 6 7 pm Intermediate Ballroom: Tuesdays\, 7 8 pm
X-ALT-DESC;FMTTYPE=text/html:Join in the fun of learning to dance the Rumba\, Fox Trot\, Waltz\, and Swing- all while keeping fit! All ages are welcome. A perfect opportunity to prepare for upcoming spring and summer weddings and events. Register as an individual or with your friend\, partner or spouse to make this class more enjoyable. Two class levels are available: Introductory for those beginning to explore dance and Intermediate for those who have some dance experience and have completed our Introductory class. Instructor Ted Campbell will determine dance level. Continuous sessions are available at the Schrock Pavilion on Tuesdays to use as further dance growth or to better serve your scheduling purposes. Cost is $25 per person. Spring Session I: April 4&ndash\;May 9 Spring Session II: May 16- June 20 Summer Session I: June 27- August 8 (no class July 4) Summer Session II: August 15- September 19 Introductory Ballroom: Tuesdays\, 6&ndash\;7 pm Intermediate Ballroom: Tuesdays\, 7&ndash\;8 pm
LOCATION:
UID:e.689.16663
SEQUENCE:3
DTSTAMP:20260425T104305Z
URL:https://business.goshen.org/events/details/adult-ballroom-dance-classes-05-16-2017-16663
END:VEVENT

END:VCALENDAR
