BEGIN:VCALENDAR
VERSION:2.0
PRODID:-//ChamberMaster//Event Calendar 2.0//EN
METHOD:PUBLISH
X-PUBLISHED-TTL:P3D
REFRESH-INTERVAL:P3D
CALSCALE:GREGORIAN
BEGIN:VEVENT
DTSTART:20170110T230000Z
DTEND:20170111T010000Z
X-MICROSOFT-CDO-ALLDAYEVENT:FALSE
SUMMARY:Adult Ballroom Dance Classes
DESCRIPTION:Join in the fun of learning to dance to the Rumba\, Fox Trot\, Waltz\, Swing and many more\, all the while keeping fit! All ages are welcome. A perfect opportunity to prepare for upcoming weddings and events. Register as an individual or with your friend\, partner or spouse to make this class more enjoyable. Two class levels are available: Introductory for those beginning to explore dance and Intermediate for those who have some dance experience. Instructor will determine dance level. Continuous sessions are available to use as further dance growth or to better serve your scheduling purposes\; you may register for one or all sessions. Cost is $25 per person (pairing is limited\, so bring a friend!). Classes meet Tuesdays at Schrock Pavilion in Shanklin Park. Introductory Level: 6:00 - 7:00 pm Intermediate Level 7:00 - 8:00 pm Call the Park Office at (574) 534-2901 for more information.
X-ALT-DESC;FMTTYPE=text/html:Join in the fun of learning to dance to the Rumba\, Fox Trot\, Waltz\, Swing and many more\, all the while keeping fit! All ages are welcome. A perfect opportunity to prepare for upcoming weddings and events. Register as an individual or with your friend\, partner or spouse to make this class more enjoyable. Two class levels are available: Introductory for those beginning to explore dance and Intermediate for those who have some dance experience. Instructor will determine dance level. Continuous sessions are available to use as further dance growth or to better serve your scheduling purposes\; you may register for one or all sessions. Cost is $25 per person (pairing is limited\, so bring a friend!). Classes meet Tuesdays at Schrock Pavilion in Shanklin Park. Introductory Level: 6:00 - 7:00 pm Intermediate Level 7:00 - 8:00 pm Call the Park Office at (574) 534-2901 for more information.
LOCATION:Schrock Pavilion Shanklin Park
UID:e.689.16184
SEQUENCE:3
DTSTAMP:20260425T154605Z
URL:https://business.goshen.org/events/details/adult-ballroom-dance-classes-01-10-2017-16184
END:VEVENT

END:VCALENDAR
