BEGIN:VCALENDAR
VERSION:2.0
PRODID:-//ChamberMaster//Event Calendar 2.0//EN
METHOD:PUBLISH
X-PUBLISHED-TTL:P3D
REFRESH-INTERVAL:P3D
CALSCALE:GREGORIAN
BEGIN:VEVENT
DTSTART:20160712T220000Z
DTEND:20160713T010000Z
X-MICROSOFT-CDO-ALLDAYEVENT:FALSE
SUMMARY:Adult Ballroom Dance Class
DESCRIPTION:The Parks Office is now accepting registrations for Adult Ballroom Dance Class! Join in the fun of learning to dance to the Rumba\, Fox Trot\, Waltz\, Swing and many more\, all the while keeping fit! All ages are welcome. A perfect opportunity to prepare for summer weddings and events. Register with your friend\, partner or spouse for our couples class or individually for our singles class. Two class levels are available: Introductory for those beginning to explore dance\, Intermediate for those who have some dance experience and have completed our Introductory class. Instructor will determine dance level. Continuous sessions are available to use as further dance growth or to better serve your scheduling purposes\; you may register for either or all sessions. Cost is $25 per person. Summer Session 1: July 12-August 16 Summer Session 2: August 23- September 27 Couples Introductory Ballroom: Tuesdays\, 6 7 pm Couples Intermediate Ballroom: Tuesdays\, 7 8 pm Singles Introductory Ballroom: Tuesdays\, 8 9 pm Location: Schrock Pavilion\, 411 West Plymouth Avenue
X-ALT-DESC;FMTTYPE=text/html:The Parks Office is now accepting registrations for Adult Ballroom Dance Class! Join in the fun of learning to dance to the Rumba\, Fox Trot\, Waltz\, Swing and many more\, all the while keeping fit! All ages are welcome. A perfect opportunity to prepare for summer weddings and events. Register with your friend\, partner or spouse for our couples class or individually for our singles class. Two class levels are available: Introductory for those beginning to explore dance\, Intermediate for those who have some dance experience and have completed our Introductory class. Instructor will determine dance level. Continuous sessions are available to use as further dance growth or to better serve your scheduling purposes\; you may register for either or all sessions. Cost is $25 per person. Summer Session 1: July 12-August 16 Summer Session 2: August 23- September 27 Couples Introductory Ballroom: Tuesdays\, 6&ndash\;7 pm Couples Intermediate Ballroom: Tuesdays\, 7&ndash\;8 pm Singles Introductory Ballroom: Tuesdays\, 8&ndash\;9 pm Location: Schrock Pavilion\, 411 West Plymouth Avenue
LOCATION:
UID:e.689.16006
SEQUENCE:3
DTSTAMP:20260426T021955Z
URL:https://business.goshen.org/events/details/adult-ballroom-dance-class-07-12-2016-16006
END:VEVENT

END:VCALENDAR
