BEGIN:VCALENDAR
VERSION:2.0
PRODID:-//ChamberMaster//Event Calendar 2.0//EN
METHOD:PUBLISH
X-PUBLISHED-TTL:P3D
REFRESH-INTERVAL:P3D
CALSCALE:GREGORIAN
BEGIN:VEVENT
DTSTART:20180711T113000Z
DTEND:20180711T150000Z
X-MICROSOFT-CDO-ALLDAYEVENT:FALSE
SUMMARY:A morning with Penelope Burk
DESCRIPTION:Join us for a morning with renowned author\, researcher\, and fundraising futurist\, Penelope Burk. Penelope understands donors and what they want more deeply than any consultant in the fundraising industry. In the last twenty years\, she and her innovative firm\, Cygnus Applied Research\, Inc.\, have conducted surveys and research studies with more than a quarter million American donors. She has reached back into their lives to find out about the first time they gave\, what motivates their philanthropy now\, what their greatest and most frustrating experiences in giving are\, and what their dreams are for their philanthropic future.
X-ALT-DESC;FMTTYPE=text/html:Join us for a morning with renowned author\, researcher\, and fundraising futurist\, Penelope Burk. Penelope understands donors and what they want more deeply than any consultant in the fundraising industry. In the last twenty years\, she and her innovative firm\, Cygnus Applied Research\, Inc.\, have conducted surveys and research studies with more than a quarter million American donors. She has reached back into their lives to find out about the first time they gave\, what motivates their philanthropy now\, what their greatest and most frustrating experiences in giving are\, and what their dreams are for their philanthropic future.
LOCATION:Center six one five 2707 County Rd 15\, Elkhart\, IN 46514
UID:e.689.17847
SEQUENCE:3
DTSTAMP:20260424T092653Z
URL:https://business.goshen.org/events/details/a-morning-with-penelope-burk-17847
END:VEVENT

END:VCALENDAR
