BEGIN:VCALENDAR
VERSION:2.0
PRODID:-//ChamberMaster//Event Calendar 2.0//EN
METHOD:PUBLISH
X-PUBLISHED-TTL:P3D
REFRESH-INTERVAL:P3D
CALSCALE:GREGORIAN
BEGIN:VEVENT
DTSTART:20160815T220000Z
DTEND:20160815T233000Z
X-MICROSOFT-CDO-ALLDAYEVENT:FALSE
SUMMARY:A Look at the BIG 3
DESCRIPTION:Healthy eating\, staying active and healthy weight seminar. Take charge of your health! If you or someone you know is living with diabetes\, attend this free seminar. You will learn how small lifestyle changes can help you better manage your condition and live a healthier life. FREE and open to the public.
X-ALT-DESC;FMTTYPE=text/html:Healthy eating\, staying active and healthy weight seminar. Take charge of your health! If you or someone you know is living with diabetes\, attend this free seminar. You will learn how small lifestyle changes can help you better manage your condition and live a healthier life. FREE and open to the public.
LOCATION:IU Health Goshen Heart & Vascular Wellness Classroom (2nd floor) 1855 S Main St. Goshen\, IN 46526
UID:e.689.16151
SEQUENCE:3
DTSTAMP:20260425T233120Z
URL:https://business.goshen.org/events/details/a-look-at-the-big-3-08-15-2016-16151
END:VEVENT

END:VCALENDAR
