BEGIN:VCALENDAR
VERSION:2.0
PRODID:-//ChamberMaster//Event Calendar 2.0//EN
METHOD:PUBLISH
X-PUBLISHED-TTL:P3D
REFRESH-INTERVAL:P3D
CALSCALE:GREGORIAN
BEGIN:VEVENT
DTSTART:20181128T150000Z
DTEND:20181128T163000Z
X-MICROSOFT-CDO-ALLDAYEVENT:FALSE
SUMMARY:A Festival of Carols: The Music and the Meaning
DESCRIPTION:Nov. 28\, Dec. 3\, 10:00-11:30 a.m. Jennings Auditorium at the Greencroft Goshen Community Center Dec. 5\, 10:00-11:30 a.m. GC Music Center Dec. 6\, 4:15-6:30 p.m. GC Music Center for Dress Rehearsal and Follow-Up Learn about the history of lessons and carols\, get an overview of this year's program and learn about the music as it comes to Sauder Hall. A community tradition will come alive in a new way as you get an insider's view of the planning\, practicing and the "practical" that brings the annual event to life. Session three of this class will take place at the Music Center "behind the scenes"?. The final session will be an invitation to enjoy the dress rehearsal on Thu.\, Dec. 6 from 4:15 - 5:45 p.m. followed by a brief talk back time from 5:45 - 6:30 p.m. at the Music Center. Register at http://life-learn.org/ or call 574-535-7566.
X-ALT-DESC;FMTTYPE=text/html:Nov. 28\, Dec. 3\, 10:00-11:30 a.m. Jennings Auditorium at the Greencroft Goshen Community Center Dec. 5\, 10:00-11:30 a.m. GC Music Center Dec. 6\, 4:15-6:30 p.m. GC Music Center for Dress Rehearsal and Follow-Up Learn about the history of lessons and carols\, get an overview of this year&#39\;s program and learn about the music as it comes to Sauder Hall. A community tradition will come alive in a new way as you get an insider&#39\;s view of the planning\, practicing and the &quot\;practical&quot\; that brings the annual event to life. Session three of this class will take place at the Music Center &quot\;behind the scenes&quot\;?. The final session will be an invitation to enjoy the dress rehearsal on Thu.\, Dec. 6 from 4:15 - 5:45 p.m. followed by a brief talk back time from 5:45 - 6:30 p.m. at the Music Center. Register at http://life-learn.org/ or call 574-535-7566.
LOCATION:Greencroft Goshen & Goshen College
UID:e.689.17908
SEQUENCE:3
DTSTAMP:20260424T025659Z
URL:https://business.goshen.org/events/details/a-festival-of-carols-the-music-and-the-meaning-17908
END:VEVENT

END:VCALENDAR
