BEGIN:VCALENDAR
VERSION:2.0
PRODID:-//ChamberMaster//Event Calendar 2.0//EN
METHOD:PUBLISH
X-PUBLISHED-TTL:P3D
REFRESH-INTERVAL:P3D
CALSCALE:GREGORIAN
BEGIN:VEVENT
DTSTART;VALUE=DATE:20170812
DTEND;VALUE=DATE:20170813
TRANSP:TRANSPARENT
X-MICROSOFT-CDO-ALLDAYEVENT:TRUE
SUMMARY:5th Annual ECBOR 5K Race
DESCRIPTION:ECBOR will be having 5th Annual 5K Race to benefit the Humane Society of Elkhart County on Saturday\, August 12\, 2017
X-ALT-DESC;FMTTYPE=text/html:ECBOR will be having 5th Annual 5K Race to benefit the Humane Society of Elkhart County on Saturday\, August 12\, 2017
LOCATION:Middlebury Fire Station 117 N. Main St. Middlebury\, IN 46540
UID:e.689.16819
SEQUENCE:3
DTSTAMP:20260425T035807Z
URL:https://business.goshen.org/events/details/5th-annual-ecbor-5k-race-16819
END:VEVENT

END:VCALENDAR
