BEGIN:VCALENDAR
VERSION:2.0
PRODID:-//ChamberMaster//Event Calendar 2.0//EN
METHOD:PUBLISH
X-PUBLISHED-TTL:P3D
REFRESH-INTERVAL:P3D
CALSCALE:GREGORIAN
BEGIN:VEVENT
DTSTART:20180630T210000Z
DTEND:20180701T010000Z
X-MICROSOFT-CDO-ALLDAYEVENT:FALSE
SUMMARY:5th Annual Bottlecaps & Corks\, to Benefit Big Brothers Big Sisters of Elkhart County
DESCRIPTION:5th Annual Bottlecaps & Corks\, to Benefit Big Brothers Big Sisters of Elkhart County\n\n \n\nElkhart\, IN June 6\, 2018-Searching for the best way to celebrate summer? Look no further than Bottlecaps & Corks- Michiana's ONLY Amateur Tasting Competition and Fundraiser on June 30th from 5:00-9:00 pm (5-6pm for VIP & 6-9pm for G/A) at Wellfield Botanic Gardens in Elkhart. You can sample dozens of locally homemade beers\, ciders\, meads\, and wines. Enjoy LIVE music from Wilson's Reservoir from 6-8pm\, eat from local food trucks and vendors and come take in the scenery at the botanic gardens!\n\n \n\nYour ticket price will not only get you into the event\, but it will also help to make a big impact on the lives of our youth here in Elkhart County.   All proceeds from the event will benefit Big Brothers Big Sisters of Elkhart County and its mission of providing local youth with mentors through our community and site based programs.\n\n \n\nThis is the 5th year for the annual event\, founded by local wine maker Andrew Hicks when he was on the board at Big Brothers Big Sisters. "You will find a lot of quality cabs\, zins\, and IPAs at the event\, but another cool aspect is serving something unique and different to see how other people like it\," says Hicks. "As a ticket holder\, it's fun to test your palate."\n\n \n\nIt's not too late to enter your mix for tasting! All entries will be judged by local professionals & attendees will have the chance to vote for their favorites\, with winners in the People's Choice competition announced at the end of the night. \n\n \n\nTickets are on sale now and are $60 for VIP\, $40 for general admission\, $45 at the door & $20 for designated drivers. For more information or to purchase admission tickets\, visit www.bbbselkhart.org/Bottlecaps&Corks or call the BBBSEC office at 574-830-5013.  You can also email info@bbbselkhart.org.
X-ALT-DESC;FMTTYPE=text/html:<strong>5<sup>th</sup> Annual Bottlecaps &amp\; Corks\, to Benefit Big Brothers Big Sisters of Elkhart County</strong><br />\n&nbsp\;<br />\n<strong>Elkhart\, IN&mdash\;June 6\, 2018-</strong>Searching for the best way to celebrate summer? Look no further than Bottlecaps &amp\; Corks- Michiana&rsquo\;s ONLY Amateur Tasting Competition and Fundraiser on June 30<sup>th</sup> from 5:00-9:00 pm (5-6pm for VIP &amp\; 6-9pm for G/A) at Wellfield Botanic Gardens in Elkhart. You can sample dozens of locally homemade beers\, ciders\, meads\, and wines. Enjoy LIVE music from Wilson&rsquo\;s Reservoir from 6-8pm\, eat from local food trucks and vendors and come take in the scenery at the botanic gardens!<br />\n&nbsp\;<br />\nYour ticket price will not only get you into the event\, but it will also help to make a big impact on the lives of our youth here in Elkhart County.&nbsp\;&nbsp\; All proceeds from the event will benefit Big Brothers Big Sisters of Elkhart County and its mission of providing local youth with mentors through our community and site based programs.<br />\n&nbsp\;<br />\nThis is the 5<sup>th</sup> year for the annual event\, founded by local wine maker Andrew Hicks when he was on the board at Big Brothers Big Sisters. &ldquo\;You will find a lot of quality cabs\, zins\, and IPAs at the event\, but another cool aspect is serving something unique and different to see how other people like it\,&rdquo\; says Hicks. &ldquo\;As a ticket holder\, it&rsquo\;s fun to test your palate.&rdquo\;<br />\n&nbsp\;<br />\nIt&rsquo\;s not too late to enter your mix for tasting! All entries will be judged by local professionals &amp\; attendees will have the chance to vote for their favorites\, with winners in the People&rsquo\;s Choice competition announced at the end of the night.&nbsp\;<br />\n&nbsp\;<br />\nTickets are on sale now and are $60 for VIP\, $40 for general admission\, $45 at the door &amp\; $20 for designated drivers. For more information or to purchase admission tickets\, visit <a href="http://www.bbbselkhart.org">www.bbbselkhart.org</a>/Bottlecaps&amp\;Corks or call the BBBSEC office at 574-830-5013.&nbsp\; You can also email <a href="mailto:info@bbbselkhart.org">info@bbbselkhart.org</a>.&nbsp\;&nbsp\;
LOCATION:Wellfield Botanic Gardens 1011 N. Main Street Elkhart\, IN
UID:e.689.17846
SEQUENCE:3
DTSTAMP:20260424T115609Z
URL:https://business.goshen.org/events/details/5th-annual-bottlecaps-corks-to-benefit-big-brothers-big-sisters-of-elkhart-county-17846
END:VEVENT

END:VCALENDAR
