BEGIN:VCALENDAR
VERSION:2.0
PRODID:-//ChamberMaster//Event Calendar 2.0//EN
METHOD:PUBLISH
X-PUBLISHED-TTL:P3D
REFRESH-INTERVAL:P3D
CALSCALE:GREGORIAN
BEGIN:VEVENT
DTSTART:20180630T210000Z
DTEND:20180701T010000Z
X-MICROSOFT-CDO-ALLDAYEVENT:FALSE
SUMMARY:5th Annual Bottlecaps & Corks
DESCRIPTION:Join us for the 5th annual Bottlecaps & Corks\, Michiana's only amateur tasting event!\n\n \n\nBottlecaps & Corks features numerous locally made beers\, hard ciders\, wines & mead. Live music from Wilson's Reservoir from 6-8pm & local food vendors. All proceeds will benefit Big Brothers Big Sisters of Elkhart County.\n\n \n\nCome & vote for the People's Choice Winner!\n\n \n\nTickets are available now: at www.bbbselkhart.org/Bottlecaps&Corks\n\n \n\nMust be 21 to enter. Please bring a valid ID\n\n \n\nDo you make a killer Cabernet or the perfect pale ale? Brewers and vintners can enter their best brews! You'll get the chance to show off your beer or wine\, get feedback from local professional judges & more!\n\n \n\nDownload your registration packet here: http://bit.ly/2018BCC_bvEntryForm
X-ALT-DESC;FMTTYPE=text/html:Join us for the 5th annual Bottlecaps &amp\; Corks\, Michiana&#39\;s only amateur tasting event!<br />\n&nbsp\;<br />\nBottlecaps &amp\; Corks features numerous locally made beers\, hard ciders\, wines &amp\; mead. Live music from Wilson&#39\;s Reservoir from 6-8pm &amp\; local food vendors. All proceeds will benefit Big Brothers Big Sisters of Elkhart County.<br />\n&nbsp\;<br />\nCome &amp\; vote for the People&#39\;s Choice Winner!<br />\n&nbsp\;<br />\nTickets are available now: at www.bbbselkhart.org/Bottlecaps&amp\;Corks<br />\n&nbsp\;<br />\nMust be 21 to enter. Please bring a valid ID<br />\n&nbsp\;<br />\nDo you make a killer Cabernet or the perfect pale ale? Brewers and vintners can enter their best brews! You&#39\;ll get the chance to show off your beer or wine\, get feedback from local professional judges &amp\; more!<br />\n&nbsp\;<br />\nDownload your registration packet here: <a href="http://bit.ly/2018BCC_bvEntryForm">http://bit.ly/2018BCC_bvEntryForm</a>
LOCATION:Wellfield Botanic Gardens
UID:e.689.17833
SEQUENCE:3
DTSTAMP:20260424T113327Z
URL:https://business.goshen.org/events/details/5th-annual-bottlecaps-corks-17833
END:VEVENT

END:VCALENDAR
