BEGIN:VCALENDAR
VERSION:2.0
PRODID:-//ChamberMaster//Event Calendar 2.0//EN
METHOD:PUBLISH
X-PUBLISHED-TTL:P3D
REFRESH-INTERVAL:P3D
CALSCALE:GREGORIAN
BEGIN:VEVENT
DTSTART:20160813T113000Z
DTEND:20160813T160000Z
X-MICROSOFT-CDO-ALLDAYEVENT:FALSE
SUMMARY:4th Annual ECBOR 5K
DESCRIPTION:The Elkhart County Board of Realtors is having their 4th annual 5K benefiting the Boys and Girls Club of Elkhart County.\n\nWalk or run and pet friendly. Prizes for each age group and a chance to win an Apple iWatch.\n\nRegistration will begin at 7:30am. Race will Start at 8:30am.
X-ALT-DESC;FMTTYPE=text/html:The Elkhart County Board of Realtors is having their 4th annual 5K benefiting the Boys and Girls Club of Elkhart County.<br />\nWalk or run and pet friendly. Prizes for each age group and a chance to win an Apple iWatch.<br />\nRegistration will begin at 7:30am. Race will Start at 8:30am.
LOCATION:Middlebury Fire Station 117 N. Main St Middlebury\, IN 46540
UID:e.689.16149
SEQUENCE:3
DTSTAMP:20260425T233026Z
URL:https://business.goshen.org/events/details/4th-annual-ecbor-5k-08-13-2016-16149
END:VEVENT

END:VCALENDAR
