BEGIN:VCALENDAR
VERSION:2.0
PRODID:-//ChamberMaster//Event Calendar 2.0//EN
METHOD:PUBLISH
X-PUBLISHED-TTL:P3D
REFRESH-INTERVAL:P3D
CALSCALE:GREGORIAN
BEGIN:VEVENT
DTSTART:20170107T150000Z
DTEND:20170107T190000Z
X-MICROSOFT-CDO-ALLDAYEVENT:FALSE
SUMMARY:4H Discover Day
DESCRIPTION:Come learn about all the programs 4H has to offer and how you can be a part of the exciting Elkhart County organization!
X-ALT-DESC;FMTTYPE=text/html:Come learn about all the programs 4H has to offer and how you can be a part of the exciting Elkhart County organization!
LOCATION:Concord Mall 3701 S. Main Street Elkhart\, IN 46517 574-875-6502
UID:e.689.16382
SEQUENCE:3
DTSTAMP:20260425T154317Z
URL:https://business.goshen.org/events/details/4h-discover-day-16382
END:VEVENT

END:VCALENDAR
