BEGIN:VCALENDAR
VERSION:2.0
PRODID:-//ChamberMaster//Event Calendar 2.0//EN
METHOD:PUBLISH
X-PUBLISHED-TTL:P3D
REFRESH-INTERVAL:P3D
CALSCALE:GREGORIAN
BEGIN:VEVENT
DTSTART:20160521T120000Z
DTEND:20160521T170000Z
X-MICROSOFT-CDO-ALLDAYEVENT:FALSE
SUMMARY:44th Annual ADEC Ride-A-Bike
DESCRIPTION:Come out and join ADEC for a fun day on the Pumpkinvine Trail to raise money for people with intellectual and developmental disabilities so they may enjoy choice and possibility in every aspect of their lives\, right here in Michiana. ADEC?s Ride-A-Bike\, presented by 1st Source Bank and Community Foundation of Elkhart County\, is a community ride/walk with courses of varying distances and fun SAG stops along the way. Taking place every year since 1972\, this ride is the longest-running event of its kind in Elkhart County\, as well as a major fundraiser for ADEC. During the event\, riders of all ages and skill levels choose to ride along a scenic 5-\, 9-\, 18- or 30- mile route through Elkhart County or take a 2-mile walk touring the Northridge High School campus.
X-ALT-DESC;FMTTYPE=text/html:Come out and join ADEC for a fun day on the Pumpkinvine Trail to raise money for people with intellectual and developmental disabilities so they may enjoy choice and possibility in every aspect of their lives\, right here in Michiana. ADEC?s Ride-A-Bike\, presented by 1st Source Bank and Community Foundation of Elkhart County\, is a community ride/walk with courses of varying distances and fun SAG stops along the way. Taking place every year since 1972\, this ride is the longest-running event of its kind in Elkhart County\, as well as a major fundraiser for ADEC. During the event\, riders of all ages and skill levels choose to ride along a scenic 5-\, 9-\, 18- or 30- mile route through Elkhart County or take a 2-mile walk touring the Northridge High School campus.
LOCATION:Northridge High School 56779 Northridge Drive Middlebury\, IN 46540
UID:e.689.15869
SEQUENCE:3
DTSTAMP:20260426T035944Z
URL:https://business.goshen.org/events/details/44th-annual-adec-ride-a-bike-05-21-2016-15869
END:VEVENT

END:VCALENDAR
