BEGIN:VCALENDAR
VERSION:2.0
PRODID:-//ChamberMaster//Event Calendar 2.0//EN
METHOD:PUBLISH
X-PUBLISHED-TTL:P3D
REFRESH-INTERVAL:P3D
CALSCALE:GREGORIAN
BEGIN:VEVENT
DTSTART:20170121T150000Z
DTEND:20170128T020000Z
X-MICROSOFT-CDO-ALLDAYEVENT:FALSE
SUMMARY:37th Elkhart County Parks Department
DESCRIPTION:This photography contest is an annual event to promote the environmental\, recreational and historical resources of Elkhart County. The Elkhart County Parks and Recreation Department will receive the right to reproduce\, at its own expense\, any photo receiving an award of recognition in this contest for promotional purposes. The Elkhart County Parks may also request the use of other contest entries to be used in a promotional capacity. After the display\, entries and awards will be available to be picked up at the Elkhart County Parks Administrative Office on or after Friday\, February 3\, 2017. Photos must be picked up by 4 p.m. March 3\, 2017 or they will become the property of the Elkhart County Parks.
X-ALT-DESC;FMTTYPE=text/html:This photography contest is an annual event to promote the environmental\, recreational and historical resources of Elkhart County. The Elkhart County Parks and Recreation Department will receive the right to reproduce\, at its own expense\, any photo receiving an award of recognition in this contest for promotional purposes. The Elkhart County Parks may also request the use of other contest entries to be used in a promotional capacity. After the display\, entries and awards will be available to be picked up at the Elkhart County Parks Administrative Office on or after Friday\, February 3\, 2017. Photos must be picked up by 4 p.m. March 3\, 2017 or they will become the property of the Elkhart County Parks.
LOCATION:Concord Mall 3701 S. Main Street Elkhart\, IN 46517 574-875-6502
UID:e.689.16383
SEQUENCE:3
DTSTAMP:20260425T154709Z
URL:https://business.goshen.org/events/details/37th-elkhart-county-parks-department-16383
END:VEVENT

END:VCALENDAR
